{"text_format":"1","workbook":"xlsx","n_sheets":3,"sheets":["Read me - LAs","Level 1 Site Screening","FZ Calculations"],"not_rendered":{"charts":0,"images":4,"macros":0,"external_links":1,"defined_names":1,"comments":0,"pivot_tables":0},"unopened":[],"bounds":{"document_bytes":16777216,"sheet_cells":100000,"rows_first":2000,"rows_last":500,"rows_between":2000,"halvings":0,"cell_chars":16384,"cell_head_chars":4096},"cells_cut":0,"cells_raw":0,"read":"whole","date_system":"1900"}

{"sheet":"Read me - LAs","index":0,"n_rows":21,"n_cols":3,"rows_kept":21,"cut":false,"hidden":false,"merged":[]}
[]
[]
[]
[]
[]
[]
[]
[null,null,"JBA Strategic Flood Risk Assessment Site Screening Tool "]
[]
[null,null,"This spreadsheet has been designed to assist local authorities with the selection of development sites for inclusion within their local plan."]
[]
[null,null,"Note to tabs"]
[null,null,"●  The Sequential Test Data tab provides the data to be used in the Sequential Test as outlined in the Level 1 SFRA - Sequential Test Dataset Guidance document. The cells in row 8 have been highlighted red, amber, green in accordance with the High, Medium and Low risk bands outlined in Appendix A of the document. "]
[null,null,"● The Level 1 Site Screening tab provides further flood risk data about each of the sites. "]
[]
[null,null,"Note on calculations:"]
[null,null,"Site boundaries have been screened against flood risk information to determine the proportion of the site at risk.  The following flood risk information has been used in the assessment\n●  Flood Zones (from Environment Agency Flood Map for Planning)\n●  Fluvial and Tidal present day flood extents (from detailed hydraulic models)\n●  Fluvial and Tidal climate change flood extents (from detailed hydraulic models)\n●  Surface Water (from The Flood Map for Planning, also known as the Risk of Flooding from Surface Water map)\n●  JBA Groundwater Flood Mapping\n●  Reservoirs (from the Environment Agency's Reservoir Map)\n●  Environment Agency's Historic Flood Map\n●  Recorded flood incidents from Kent County Council\n\nPlease see the main SFRA report for father information about the datasets. "]
[]
[]
[null,null,"Note on Environment Agency Flood Zone and surface water percentages:"]
[null,null,"The values quoted  show the percentage of the site at flood risk from that particular Flood Zone / event, excluding the percentage of the site at flood risk at a higher zone.  \n\nFor example\n50% of a site is in the Flood Zones. Taking each Flood Zone individually, 50% is in Flood Zone 2 but only 30% is in Flood Zone 3a .\nIn the Level 1 Screening tab this will be displayed as  30% in Flood Zone 3a, 20% in Flood Zone 2 (as this excludes the 20% in Flood Zone 3a) and 50% in Flood Zone 1.\n\nFlood Zone 3b has not been excluded from these calculations. "]

{"sheet":"Level 1 Site Screening","index":1,"n_rows":140,"n_cols":25,"rows_kept":140,"cut":false,"hidden":false,"merged":[[5,24,7,24],[5,22,5,23],[5,18,5,19],[5,13,5,15],[5,16,5,17],[5,4,5,7],[5,20,5,21],[5,8,5,12],[6,0,6,3],[6,16,6,17],[6,13,6,15],[6,18,6,19],[6,20,6,21],[6,4,6,6],[6,8,6,10],[6,11,6,12]]}
["SFRA Site Screening - all data"]
[]
[]
[]
["Proportion of site shown to be at risk (%)"]
[null,null,null,null,"Present day Flood Zones",null,null,null,"Fluvial Flood Risk plus climate change ",null,null,null,null,"Present day risk from surface water",null,null,"Future risk from surface water",null,"Reservoirs",null,"Groundwater",null,"Historic Flooding",null,"Indictative ranking of sites "]
[null,null,null,null,"EA's Flood Map for Planning ",null,null,"Present day fluvial modelling ","Detailed models ",null,null,"EA's RoFRS Undefended + Central allowance for the 2080s epoch",null,"Surface water flooding within the EA's Flood Map for Planning (also known as Risk of Flooding from Surface Water RoFSW)",null,null,"EA's RoFSW + Climate Change",null,"EA's Reservoirs Maps",null,"JBA Groundwater Flood Map",null,"Kent County Council's  flooding incidents","EA Historic Flood Map"]
["Site Reference","Site name","Data source ","Area (ha)","Flood Zone 1 \n(Less than 0.1% AEP (1 in 1,000-year) - undefended)"," Flood Zone 2 \n(Between 1%/0.5%AEP (1 in 100-year/1 in 200 year) and 0.1% AEP (1 \nin 1,000-year) - undefended)"," Flood Zone 3\n(Greater than 1% AEP (1 in 100-year) - undefended)","FZ3b- Detailed models ","1% AEP plus Central CC","1% AEP plus Higher Central CC","1% AEP plus Upper End CC","1% AEP plus Central CC","0.1% AEP plus Central CC","3.3% AEP (1 in \n30-year)","1% AEP (1 in 100-year)","0.1% AEP (1 in 1,000-year) ","3.3% AEP + 35%","1% AEP + 45%","When river levels are normal","When there is also flooding from rivers","High Risk (0 - 0.025m) below ground level","Moderate Risk (0.025 - 0.5m) below ground level","Number of recorded flood incidents within 50m ","Percentage of site affected"]
["EM/21/00003","Lower Daltons Nursery, Swanley Village","Employment",0.77,{"$f":"'[1]Flood Map for Planning '!AB2","v":100},{"$f":"'[1]Flood Map for Planning '!T2","v":0},{"$f":"'[1]Flood Map for Planning '!V2","v":0},{"$f":"[1]FZ3b!Y2","v":0},{"$f":"'[1]Fluvial 1% plus Central CC'!T2","v":0},{"$f":"'[1]Fluvial 1% plus HC_CC'!T2","v":0},{"$f":"'[1]Fluvial 1% plus UE_CC'!T2","v":0},{"$f":"'[1]RoFRS 1% + Central undef'!T2","v":0},{"$f":"'[1]RoFRS 0.1% + Central undef'!T2","v":0},{"$f":"'[1]RoFSW - High risk'!V2","v":0.35093782405716401},{"$f":"'[1]RoFSW - Med risk'!T2","v":2.7269010324911198},{"$f":"'[1]RoFSW - Low risk'!T2","v":10.7729089452992},0.59287535190396601,2.2921997125948002,0,0,0,0,16,0,"Green"]
["EM/21/00006","Elliott's Farm, Penshurst, TN11 8BG","Employment",0.13,{"$f":"'[1]Flood Map for Planning '!AB3","v":100},{"$f":"'[1]Flood Map for Planning '!T3","v":0},{"$f":"'[1]Flood Map for Planning '!V3","v":0},{"$f":"[1]FZ3b!Y3","v":0},{"$f":"'[1]Fluvial 1% plus Central CC'!T3","v":0},{"$f":"'[1]Fluvial 1% plus HC_CC'!T3","v":0},{"$f":"'[1]Fluvial 1% plus UE_CC'!T3","v":0},{"$f":"'[1]RoFRS 1% + Central undef'!T3","v":0},{"$f":"'[1]RoFRS 0.1% + Central undef'!T3","v":0},{"$f":"'[1]RoFSW - High risk'!V3","v":0},{"$f":"'[1]RoFSW - Med risk'!T3","v":0},{"$f":"'[1]RoFSW - Low risk'!T3","v":0},0,0,0,0,0,0,0,0,"Green"]
["EM/21/00008","Chelsfield Depot, Shackfields Road, Badgers Mount","Employment",4.8499999999999996,{"$f":"'[1]Flood Map for Planning '!AB4","v":100},{"$f":"'[1]Flood Map for Planning '!T4","v":0},{"$f":"'[1]Flood Map for Planning '!V4","v":0},{"$f":"[1]FZ3b!Y4","v":0},{"$f":"'[1]Fluvial 1% plus Central CC'!T4","v":0},{"$f":"'[1]Fluvial 1% plus HC_CC'!T4","v":0},{"$f":"'[1]Fluvial 1% plus UE_CC'!T4","v":0},{"$f":"'[1]RoFRS 1% + Central undef'!T4","v":0},{"$f":"'[1]RoFRS 0.1% + Central undef'!T4","v":0},{"$f":"'[1]RoFSW - High risk'!V4","v":1.75803101091689},{"$f":"'[1]RoFSW - Med risk'!T4","v":3.50234436265802},{"$f":"'[1]RoFSW - Low risk'!T4","v":6.3738025958527702},0.15796738763881499,0.16532161140330401,0,0,0,0,7,0,"Green"]
["EM/21/00014","Hartley Breakers Yard (aka Baldwins Yard), Hartley","Employment",0.82,{"$f":"'[1]Flood Map for Planning '!AB5","v":100},{"$f":"'[1]Flood Map for Planning '!T5","v":0},{"$f":"'[1]Flood Map for Planning '!V5","v":0},{"$f":"[1]FZ3b!Y5","v":0},{"$f":"'[1]Fluvial 1% plus Central CC'!T5","v":0},{"$f":"'[1]Fluvial 1% plus HC_CC'!T5","v":0},{"$f":"'[1]Fluvial 1% plus UE_CC'!T5","v":0},{"$f":"'[1]RoFRS 1% + Central undef'!T5","v":0},{"$f":"'[1]RoFRS 0.1% + Central undef'!T5","v":0},{"$f":"'[1]RoFSW - High risk'!V5","v":4.7078287586136804},{"$f":"'[1]RoFSW - Med risk'!T5","v":16.694219540919001},{"$f":"'[1]RoFSW - Low risk'!T5","v":45.353592946068296},47.368401857853499,50.082267139482497,0,0,0,0,1,0,"Amber"]
["EM/21/00015","Otford Road Depot, Otford Road","Employment",0.75,{"$f":"'[1]Flood Map for Planning '!AB6","v":87.179910849032098},{"$f":"'[1]Flood Map for Planning '!T6","v":12.820089150967901},{"$f":"'[1]Flood Map for Planning '!V6","v":0},{"$f":"[1]FZ3b!Y6","v":0},{"$f":"'[1]Fluvial 1% plus Central CC'!T6","v":0},{"$f":"'[1]Fluvial 1% plus HC_CC'!T6","v":0},{"$f":"'[1]Fluvial 1% plus UE_CC'!T6","v":0},{"$f":"'[1]RoFRS 1% + Central undef'!T6","v":0},{"$f":"'[1]RoFRS 0.1% + Central undef'!T6","v":12.820089124890499},{"$f":"'[1]RoFSW - High risk'!V6","v":0.89017984911070402},{"$f":"'[1]RoFSW - Med risk'!T6","v":1.0511696304474401},{"$f":"'[1]RoFSW - Low risk'!T6","v":3.6856101251975},2.8048819730268399,3.0179520317952,0,0,0,0,3,3.96983233502556,"Green"]
["EM/21/00007","Land at Bartram Farm and adjacent to Vestry Estate","Employment",1.33,{"$f":"'[1]Flood Map for Planning '!AB7","v":100},{"$f":"'[1]Flood Map for Planning '!T7","v":0},{"$f":"'[1]Flood Map for Planning '!V7","v":0},{"$f":"[1]FZ3b!Y7","v":0},{"$f":"'[1]Fluvial 1% plus Central CC'!T7","v":0},{"$f":"'[1]Fluvial 1% plus HC_CC'!T7","v":0},{"$f":"'[1]Fluvial 1% plus UE_CC'!T7","v":0},{"$f":"'[1]RoFRS 1% + Central undef'!T7","v":0},{"$f":"'[1]RoFRS 0.1% + Central undef'!T7","v":0},{"$f":"'[1]RoFSW - High risk'!V7","v":1.6587237259293099},{"$f":"'[1]RoFSW - Med risk'!T7","v":2.3222132070194199},{"$f":"'[1]RoFSW - Low risk'!T7","v":3.8603025269727},1.3571376623483,1.53808933002694,0,0,0,0,2,0,"Green"]
["EM/21/00013","Beechcroft Farm Industries, Chapel Wood Road, Ash","Employment",4.08,{"$f":"'[1]Flood Map for Planning '!AB8","v":100},{"$f":"'[1]Flood Map for Planning '!T8","v":0},{"$f":"'[1]Flood Map for Planning '!V8","v":0},{"$f":"[1]FZ3b!Y8","v":0},{"$f":"'[1]Fluvial 1% plus Central CC'!T8","v":0},{"$f":"'[1]Fluvial 1% plus HC_CC'!T8","v":0},{"$f":"'[1]Fluvial 1% plus UE_CC'!T8","v":0},{"$f":"'[1]RoFRS 1% + Central undef'!T8","v":0},{"$f":"'[1]RoFRS 0.1% + Central undef'!T8","v":0},{"$f":"'[1]RoFSW - High risk'!V8","v":0.89161594366868702},{"$f":"'[1]RoFSW - Med risk'!T8","v":2.0575754184456398},{"$f":"'[1]RoFSW - Low risk'!T8","v":6.1335340376919296},1.7853870805999901,2.2488991549490698,0,0,0,0,4,0,"Green"]
["EM/21/00010","Land at Upper Hockenden Farm, Maidstone Road, Swanley","Employment",2.31,{"$f":"'[1]Flood Map for Planning '!AB9","v":100},{"$f":"'[1]Flood Map for Planning '!T9","v":0},{"$f":"'[1]Flood Map for Planning '!V9","v":0},{"$f":"[1]FZ3b!Y9","v":0},{"$f":"'[1]Fluvial 1% plus Central CC'!T9","v":0},{"$f":"'[1]Fluvial 1% plus HC_CC'!T9","v":0},{"$f":"'[1]Fluvial 1% plus UE_CC'!T9","v":0},{"$f":"'[1]RoFRS 1% + Central undef'!T9","v":0},{"$f":"'[1]RoFRS 0.1% + Central undef'!T9","v":0},{"$f":"'[1]RoFSW - High risk'!V9","v":6.6570830961508998},{"$f":"'[1]RoFSW - Med risk'!T9","v":9.2234491680521806},{"$f":"'[1]RoFSW - Low risk'!T9","v":14.8320062133413},10.182105885802899,12.0619668608464,0,0,0,0,0,0,"Green"]
["EM/25/00001","Land at old Otford Road and Vestry Trading Estate","Employment",6.69,{"$f":"'[1]Flood Map for Planning '!AB10","v":91.714548762098929},{"$f":"'[1]Flood Map for Planning '!T10","v":5.3364677460879699},{"$f":"'[1]Flood Map for Planning '!V10","v":2.9489834918131002},{"$f":"[1]FZ3b!Y10","v":2.9489834918131002},{"$f":"'[1]Fluvial 1% plus Central CC'!T10","v":3.3366884726618999},{"$f":"'[1]Fluvial 1% plus HC_CC'!T10","v":3.3366884726618999},{"$f":"'[1]Fluvial 1% plus UE_CC'!T10","v":3.47868259043004},{"$f":"'[1]RoFRS 1% + Central undef'!T10","v":2.9489834863047402},{"$f":"'[1]RoFRS 0.1% + Central undef'!T10","v":8.2854512333982395},{"$f":"'[1]RoFSW - High risk'!V10","v":0},{"$f":"'[1]RoFSW - Med risk'!T10","v":0.149480702951415},{"$f":"'[1]RoFSW - Low risk'!T10","v":0.52126038346428505},1.65339942680265,1.8036592290445801,0,0,0,0,1,4.7999079284990804,"Green"]
["EM/25/00003","Kings Lodge, London Road, West Kingsdown","Employment",0.27,{"$f":"'[1]Flood Map for Planning '!AB11","v":100},{"$f":"'[1]Flood Map for Planning '!T11","v":0},{"$f":"'[1]Flood Map for Planning '!V11","v":0},{"$f":"[1]FZ3b!Y11","v":0},{"$f":"'[1]Fluvial 1% plus Central CC'!T11","v":0},{"$f":"'[1]Fluvial 1% plus HC_CC'!T11","v":0},{"$f":"'[1]Fluvial 1% plus UE_CC'!T11","v":0},{"$f":"'[1]RoFRS 1% + Central undef'!T11","v":0},{"$f":"'[1]RoFRS 0.1% + Central undef'!T11","v":0},{"$f":"'[1]RoFSW - High risk'!V11","v":0},{"$f":"'[1]RoFSW - Med risk'!T11","v":0},{"$f":"'[1]RoFSW - Low risk'!T11","v":0},15.5605465719861,16.1974966595543,0,0,0,0,0,0,"Green"]
["EM/24/00001","Petham Court Farm (west of M25)","Employment",32.659999999999997,{"$f":"'[1]Flood Map for Planning '!AB12","v":100},{"$f":"'[1]Flood Map for Planning '!T12","v":0},{"$f":"'[1]Flood Map for Planning '!V12","v":0},{"$f":"[1]FZ3b!Y12","v":0},{"$f":"'[1]Fluvial 1% plus Central CC'!T12","v":0},{"$f":"'[1]Fluvial 1% plus HC_CC'!T12","v":0},{"$f":"'[1]Fluvial 1% plus UE_CC'!T12","v":0},{"$f":"'[1]RoFRS 1% + Central undef'!T12","v":0},{"$f":"'[1]RoFRS 0.1% + Central undef'!T12","v":0},{"$f":"'[1]RoFSW - High risk'!V12","v":0},{"$f":"'[1]RoFSW - Med risk'!T12","v":3.6186160928984003E-2},{"$f":"'[1]RoFSW - Low risk'!T12","v":0.45191299971174598},0.72860840577430797,0.94122341644377605,0,0,0,0,0,0,"Green"]
["GT/21/00001","Seven Acres Farm","Gypsy and Travellers",2.5299999999999998,{"$f":"'[1]Flood Map for Planning '!AB13","v":100},{"$f":"'[1]Flood Map for Planning '!T13","v":0},{"$f":"'[1]Flood Map for Planning '!V13","v":0},{"$f":"[1]FZ3b!Y13","v":0},{"$f":"'[1]Fluvial 1% plus Central CC'!T13","v":0},{"$f":"'[1]Fluvial 1% plus HC_CC'!T13","v":0},{"$f":"'[1]Fluvial 1% plus UE_CC'!T13","v":0},{"$f":"'[1]RoFRS 1% + Central undef'!T13","v":0},{"$f":"'[1]RoFRS 0.1% + Central undef'!T13","v":0},{"$f":"'[1]RoFSW - High risk'!V13","v":0.63493921389322605},{"$f":"'[1]RoFSW - Med risk'!T13","v":0.80561441403934497},{"$f":"'[1]RoFSW - Low risk'!T13","v":0.95083598943651704},0.86772682652170396,0.88354009600356598,0,0,0,0,6,0,"Green"]
["GT/21/00004","Station Court, Knockholt Road","Gypsy and Travellers",0.42,{"$f":"'[1]Flood Map for Planning '!AB14","v":100},{"$f":"'[1]Flood Map for Planning '!T14","v":0},{"$f":"'[1]Flood Map for Planning '!V14","v":0},{"$f":"[1]FZ3b!Y14","v":0},{"$f":"'[1]Fluvial 1% plus Central CC'!T14","v":0},{"$f":"'[1]Fluvial 1% plus HC_CC'!T14","v":0},{"$f":"'[1]Fluvial 1% plus UE_CC'!T14","v":0},{"$f":"'[1]RoFRS 1% + Central undef'!T14","v":0},{"$f":"'[1]RoFRS 0.1% + Central undef'!T14","v":0},{"$f":"'[1]RoFSW - High risk'!V14","v":0},{"$f":"'[1]RoFSW - Med risk'!T14","v":0},{"$f":"'[1]RoFSW - Low risk'!T14","v":1.78799319538871E-4},18.736858207223399,21.2791370041279,0,0,0,0,9,0,"Green"]
["GT/24/00001","Park Lane Farm, Park Lane, Swanley Village","Gypsy and Travellers",0.62,{"$f":"'[1]Flood Map for Planning '!AB15","v":100},{"$f":"'[1]Flood Map for Planning '!T15","v":0},{"$f":"'[1]Flood Map for Planning '!V15","v":0},{"$f":"[1]FZ3b!Y15","v":0},{"$f":"'[1]Fluvial 1% plus Central CC'!T15","v":0},{"$f":"'[1]Fluvial 1% plus HC_CC'!T15","v":0},{"$f":"'[1]Fluvial 1% plus UE_CC'!T15","v":0},{"$f":"'[1]RoFRS 1% + Central undef'!T15","v":0},{"$f":"'[1]RoFRS 0.1% + Central undef'!T15","v":0},{"$f":"'[1]RoFSW - High risk'!V15","v":0},{"$f":"'[1]RoFSW - Med risk'!T15","v":0},{"$f":"'[1]RoFSW - Low risk'!T15","v":0},0,0,0,0,0,0,0,0,"Green"]
["H1(g)","Bevan Place","Housing",0.46,{"$f":"'[1]Flood Map for Planning '!AB16","v":100},{"$f":"'[1]Flood Map for Planning '!T16","v":0},{"$f":"'[1]Flood Map for Planning '!V16","v":0},{"$f":"[1]FZ3b!Y16","v":0},{"$f":"'[1]Fluvial 1% plus Central CC'!T16","v":0},{"$f":"'[1]Fluvial 1% plus HC_CC'!T16","v":0},{"$f":"'[1]Fluvial 1% plus UE_CC'!T16","v":0},{"$f":"'[1]RoFRS 1% + Central undef'!T16","v":0},{"$f":"'[1]RoFRS 0.1% + Central undef'!T16","v":0},{"$f":"'[1]RoFSW - High risk'!V16","v":0},{"$f":"'[1]RoFSW - Med risk'!T16","v":0},{"$f":"'[1]RoFSW - Low risk'!T16","v":0},0,0,0,0,0,0,65,0,"Green"]
["H1(h)","Bus Garage, Kingdom Hall","Housing",0.74,{"$f":"'[1]Flood Map for Planning '!AB17","v":100},{"$f":"'[1]Flood Map for Planning '!T17","v":0},{"$f":"'[1]Flood Map for Planning '!V17","v":0},{"$f":"[1]FZ3b!Y17","v":0},{"$f":"'[1]Fluvial 1% plus Central CC'!T17","v":0},{"$f":"'[1]Fluvial 1% plus HC_CC'!T17","v":0},{"$f":"'[1]Fluvial 1% plus UE_CC'!T17","v":0},{"$f":"'[1]RoFRS 1% + Central undef'!T17","v":0},{"$f":"'[1]RoFRS 0.1% + Central undef'!T17","v":0},{"$f":"'[1]RoFSW - High risk'!V17","v":2.1725361292704202},{"$f":"'[1]RoFSW - Med risk'!T17","v":3.09586394127055},{"$f":"'[1]RoFSW - Low risk'!T17","v":3.6389979656385201},10.7758387540221,12.937804017630899,0,0,0,0,6,0,"Green"]
["H1(m)","Currant Hill Allotments, Westerham","Housing",0.64,{"$f":"'[1]Flood Map for Planning '!AB18","v":100},{"$f":"'[1]Flood Map for Planning '!T18","v":0},{"$f":"'[1]Flood Map for Planning '!V18","v":0},{"$f":"[1]FZ3b!Y18","v":0},{"$f":"'[1]Fluvial 1% plus Central CC'!T18","v":0},{"$f":"'[1]Fluvial 1% plus HC_CC'!T18","v":0},{"$f":"'[1]Fluvial 1% plus UE_CC'!T18","v":0},{"$f":"'[1]RoFRS 1% + Central undef'!T18","v":0},{"$f":"'[1]RoFRS 0.1% + Central undef'!T18","v":0},{"$f":"'[1]RoFSW - High risk'!V18","v":0},{"$f":"'[1]RoFSW - Med risk'!T18","v":0},{"$f":"'[1]RoFSW - Low risk'!T18","v":0},0,0,0,0,0,0,22,0,"Green"]
["SsM04","Gulf Petrol Station off London Road","Housing",0.1,{"$f":"'[1]Flood Map for Planning '!AB19","v":100},{"$f":"'[1]Flood Map for Planning '!T19","v":0},{"$f":"'[1]Flood Map for Planning '!V19","v":0},{"$f":"[1]FZ3b!Y19","v":0},{"$f":"'[1]Fluvial 1% plus Central CC'!T19","v":0},{"$f":"'[1]Fluvial 1% plus HC_CC'!T19","v":0},{"$f":"'[1]Fluvial 1% plus UE_CC'!T19","v":0},{"$f":"'[1]RoFRS 1% + Central undef'!T19","v":0},{"$f":"'[1]RoFRS 0.1% + Central undef'!T19","v":0},{"$f":"'[1]RoFSW - High risk'!V19","v":0},{"$f":"'[1]RoFSW - Med risk'!T19","v":0},{"$f":"'[1]RoFSW - Low risk'!T19","v":0},0,0,0,0,0,0,5,0,"Green"]
["SsM06","Whiteoak Garage off London Road","Housing",0.17,{"$f":"'[1]Flood Map for Planning '!AB20","v":100},{"$f":"'[1]Flood Map for Planning '!T20","v":0},{"$f":"'[1]Flood Map for Planning '!V20","v":0},{"$f":"[1]FZ3b!Y20","v":0},{"$f":"'[1]Fluvial 1% plus Central CC'!T20","v":0},{"$f":"'[1]Fluvial 1% plus HC_CC'!T20","v":0},{"$f":"'[1]Fluvial 1% plus UE_CC'!T20","v":0},{"$f":"'[1]RoFRS 1% + Central undef'!T20","v":0},{"$f":"'[1]RoFRS 0.1% + Central undef'!T20","v":0},{"$f":"'[1]RoFSW - High risk'!V20","v":0},{"$f":"'[1]RoFSW - Med risk'!T20","v":5.5126807054776998},{"$f":"'[1]RoFSW - Low risk'!T20","v":28.534651932956599},4.13283377051106,7.7801864709374202,0,0,0,0,4,0,"Green"]
["SWO15","Garages south of Alder Way","Housing",0.06,{"$f":"'[1]Flood Map for Planning '!AB21","v":100},{"$f":"'[1]Flood Map for Planning '!T21","v":0},{"$f":"'[1]Flood Map for Planning '!V21","v":0},{"$f":"[1]FZ3b!Y21","v":0},{"$f":"'[1]Fluvial 1% plus Central CC'!T21","v":0},{"$f":"'[1]Fluvial 1% plus HC_CC'!T21","v":0},{"$f":"'[1]Fluvial 1% plus UE_CC'!T21","v":0},{"$f":"'[1]RoFRS 1% + Central undef'!T21","v":0},{"$f":"'[1]RoFRS 0.1% + Central undef'!T21","v":0},{"$f":"'[1]RoFSW - High risk'!V21","v":0},{"$f":"'[1]RoFSW - Med risk'!T21","v":0},{"$f":"'[1]RoFSW - Low risk'!T21","v":0},0,0,0,0,0,0,1,0,"Green"]
["SWO19","Garages north of Conifer Way","Housing",0.1,{"$f":"'[1]Flood Map for Planning '!AB22","v":100},{"$f":"'[1]Flood Map for Planning '!T22","v":0},{"$f":"'[1]Flood Map for Planning '!V22","v":0},{"$f":"[1]FZ3b!Y22","v":0},{"$f":"'[1]Fluvial 1% plus Central CC'!T22","v":0},{"$f":"'[1]Fluvial 1% plus HC_CC'!T22","v":0},{"$f":"'[1]Fluvial 1% plus UE_CC'!T22","v":0},{"$f":"'[1]RoFRS 1% + Central undef'!T22","v":0},{"$f":"'[1]RoFRS 0.1% + Central undef'!T22","v":0},{"$f":"'[1]RoFSW - High risk'!V22","v":0},{"$f":"'[1]RoFSW - Med risk'!T22","v":0},{"$f":"'[1]RoFSW - Low risk'!T22","v":0},0,1.90094196542464,0,0,0,0,2,0,"Green"]
["ENE14","Garage courts to the north of The Plat","Housing",0.05,{"$f":"'[1]Flood Map for Planning '!AB23","v":100},{"$f":"'[1]Flood Map for Planning '!T23","v":0},{"$f":"'[1]Flood Map for Planning '!V23","v":0},{"$f":"[1]FZ3b!Y23","v":0},{"$f":"'[1]Fluvial 1% plus Central CC'!T23","v":0},{"$f":"'[1]Fluvial 1% plus HC_CC'!T23","v":0},{"$f":"'[1]Fluvial 1% plus UE_CC'!T23","v":0},{"$f":"'[1]RoFRS 1% + Central undef'!T23","v":0},{"$f":"'[1]RoFRS 0.1% + Central undef'!T23","v":0},{"$f":"'[1]RoFSW - High risk'!V23","v":3.1394107741564801},{"$f":"'[1]RoFSW - Med risk'!T23","v":3.4045540843812301},{"$f":"'[1]RoFSW - Low risk'!T23","v":36.8779213563312},9.4836188187268498,9.4836188187268498,0,0,0,0,1,0,"Green"]
["WCH01","Garage courts off Ash Road","Housing",0.1,{"$f":"'[1]Flood Map for Planning '!AB24","v":100},{"$f":"'[1]Flood Map for Planning '!T24","v":0},{"$f":"'[1]Flood Map for Planning '!V24","v":0},{"$f":"[1]FZ3b!Y24","v":0},{"$f":"'[1]Fluvial 1% plus Central CC'!T24","v":0},{"$f":"'[1]Fluvial 1% plus HC_CC'!T24","v":0},{"$f":"'[1]Fluvial 1% plus UE_CC'!T24","v":0},{"$f":"'[1]RoFRS 1% + Central undef'!T24","v":0},{"$f":"'[1]RoFRS 0.1% + Central undef'!T24","v":0},{"$f":"'[1]RoFSW - High risk'!V24","v":0},{"$f":"'[1]RoFSW - Med risk'!T24","v":0},{"$f":"'[1]RoFSW - Low risk'!T24","v":0},0,0,0,0,0,0,1,0,"Green"]
["ST02","DG Autos off Bradbourne Vale Road","Housing",0.28000000000000003,{"$f":"'[1]Flood Map for Planning '!AB25","v":100},{"$f":"'[1]Flood Map for Planning '!T25","v":0},{"$f":"'[1]Flood Map for Planning '!V25","v":0},{"$f":"[1]FZ3b!Y25","v":0},{"$f":"'[1]Fluvial 1% plus Central CC'!T25","v":0},{"$f":"'[1]Fluvial 1% plus HC_CC'!T25","v":0},{"$f":"'[1]Fluvial 1% plus UE_CC'!T25","v":0},{"$f":"'[1]RoFRS 1% + Central undef'!T25","v":0},{"$f":"'[1]RoFRS 0.1% + Central undef'!T25","v":0},{"$f":"'[1]RoFSW - High risk'!V25","v":0},{"$f":"'[1]RoFSW - Med risk'!T25","v":0},{"$f":"'[1]RoFSW - Low risk'!T25","v":13.137441981507999},23.155944348129399,23.9105423594211,0,0,0,0,33,0,"Green"]
["SE03","Garages off Hillingdon Avenue","Housing",0.11,{"$f":"'[1]Flood Map for Planning '!AB26","v":100},{"$f":"'[1]Flood Map for Planning '!T26","v":0},{"$f":"'[1]Flood Map for Planning '!V26","v":0},{"$f":"[1]FZ3b!Y26","v":0},{"$f":"'[1]Fluvial 1% plus Central CC'!T26","v":0},{"$f":"'[1]Fluvial 1% plus HC_CC'!T26","v":0},{"$f":"'[1]Fluvial 1% plus UE_CC'!T26","v":0},{"$f":"'[1]RoFRS 1% + Central undef'!T26","v":0},{"$f":"'[1]RoFRS 0.1% + Central undef'!T26","v":0},{"$f":"'[1]RoFSW - High risk'!V26","v":0},{"$f":"'[1]RoFSW - Med risk'!T26","v":0},{"$f":"'[1]RoFSW - Low risk'!T26","v":0},0,0,0,0,0,0,5,0,"Green"]
["SE04","Garage court off Hillingdon Avenue","Housing",0.08,{"$f":"'[1]Flood Map for Planning '!AB27","v":47.520023352546801},{"$f":"'[1]Flood Map for Planning '!T27","v":17.9692257239087},{"$f":"'[1]Flood Map for Planning '!V27","v":34.510750923544499},{"$f":"[1]FZ3b!Y27","v":0},{"$f":"'[1]Fluvial 1% plus Central CC'!T27","v":0},{"$f":"'[1]Fluvial 1% plus HC_CC'!T27","v":0},{"$f":"'[1]Fluvial 1% plus UE_CC'!T27","v":0},{"$f":"'[1]RoFRS 1% + Central undef'!T27","v":0},{"$f":"'[1]RoFRS 0.1% + Central undef'!T27","v":0},{"$f":"'[1]RoFSW - High risk'!V27","v":41.975310115023902},{"$f":"'[1]RoFSW - Med risk'!T27","v":63.968319937264802},{"$f":"'[1]RoFSW - Low risk'!T27","v":79.850566455999697},95.634509152651802,95.634509152651802,0,0,0,0,5,0,"Red"]
["SWO03","Garages off Russett Way","Housing",0.15,{"$f":"'[1]Flood Map for Planning '!AB28","v":100},{"$f":"'[1]Flood Map for Planning '!T28","v":0},{"$f":"'[1]Flood Map for Planning '!V28","v":0},{"$f":"[1]FZ3b!Y28","v":0},{"$f":"'[1]Fluvial 1% plus Central CC'!T28","v":0},{"$f":"'[1]Fluvial 1% plus HC_CC'!T28","v":0},{"$f":"'[1]Fluvial 1% plus UE_CC'!T28","v":0},{"$f":"'[1]RoFRS 1% + Central undef'!T28","v":0},{"$f":"'[1]RoFRS 0.1% + Central undef'!T28","v":0},{"$f":"'[1]RoFSW - High risk'!V28","v":1.39813393593278},{"$f":"'[1]RoFSW - Med risk'!T28","v":1.39813393593278},{"$f":"'[1]RoFSW - Low risk'!T28","v":1.4367000276842401},0,0,0,0,0,0,2,0,"Green"]
["NAG09","The Royal Oak car park","Housing",0.09,{"$f":"'[1]Flood Map for Planning '!AB29","v":100},{"$f":"'[1]Flood Map for Planning '!T29","v":0},{"$f":"'[1]Flood Map for Planning '!V29","v":0},{"$f":"[1]FZ3b!Y29","v":0},{"$f":"'[1]Fluvial 1% plus Central CC'!T29","v":0},{"$f":"'[1]Fluvial 1% plus HC_CC'!T29","v":0},{"$f":"'[1]Fluvial 1% plus UE_CC'!T29","v":0},{"$f":"'[1]RoFRS 1% + Central undef'!T29","v":0},{"$f":"'[1]RoFRS 0.1% + Central undef'!T29","v":0},{"$f":"'[1]RoFSW - High risk'!V29","v":0},{"$f":"'[1]RoFSW - Med risk'!T29","v":0},{"$f":"'[1]RoFSW - Low risk'!T29","v":0},0,0,0,0,0,0,1,0,"Green"]
["HO/21/00008","Land behind the Croft, Bradbourne Vale Road","Housing",0.13,{"$f":"'[1]Flood Map for Planning '!AB30","v":100},{"$f":"'[1]Flood Map for Planning '!T30","v":0},{"$f":"'[1]Flood Map for Planning '!V30","v":0},{"$f":"[1]FZ3b!Y30","v":0},{"$f":"'[1]Fluvial 1% plus Central CC'!T30","v":0},{"$f":"'[1]Fluvial 1% plus HC_CC'!T30","v":0},{"$f":"'[1]Fluvial 1% plus UE_CC'!T30","v":0},{"$f":"'[1]RoFRS 1% + Central undef'!T30","v":0},{"$f":"'[1]RoFRS 0.1% + Central undef'!T30","v":0},{"$f":"'[1]RoFSW - High risk'!V30","v":0},{"$f":"'[1]RoFSW - Med risk'!T30","v":0},{"$f":"'[1]RoFSW - Low risk'!T30","v":0},0,0,0,0,0,0,2,0,"Green"]
["HO/21/00024","The Cottage and associated land, Holmesdale Road, South Darenth","Housing",0.95,{"$f":"'[1]Flood Map for Planning '!AB31","v":100},{"$f":"'[1]Flood Map for Planning '!T31","v":0},{"$f":"'[1]Flood Map for Planning '!V31","v":0},{"$f":"[1]FZ3b!Y31","v":0},{"$f":"'[1]Fluvial 1% plus Central CC'!T31","v":0},{"$f":"'[1]Fluvial 1% plus HC_CC'!T31","v":0},{"$f":"'[1]Fluvial 1% plus UE_CC'!T31","v":0},{"$f":"'[1]RoFRS 1% + Central undef'!T31","v":0},{"$f":"'[1]RoFRS 0.1% + Central undef'!T31","v":0},{"$f":"'[1]RoFSW - High risk'!V31","v":0},{"$f":"'[1]RoFSW - Med risk'!T31","v":0},{"$f":"'[1]RoFSW - Low risk'!T31","v":0},1.26430772773959,1.34859488139138,0,0,0,0,2,0,"Green"]
["HO/21/00026","Pitts Car Park, High Street, Westerham","Housing",0.13,{"$f":"'[1]Flood Map for Planning '!AB32","v":1.5506109019735135},{"$f":"'[1]Flood Map for Planning '!T32","v":0.30694729453509201},{"$f":"'[1]Flood Map for Planning '!V32","v":98.142441803491394},{"$f":"[1]FZ3b!Y32","v":50.972049649670097},{"$f":"'[1]Fluvial 1% plus Central CC'!T32","v":98.092597376483894},{"$f":"'[1]Fluvial 1% plus HC_CC'!T32","v":98.092597376483894},{"$f":"'[1]Fluvial 1% plus UE_CC'!T32","v":98.092597376483894},{"$f":"'[1]RoFRS 1% + Central undef'!T32","v":98.146011193131599},{"$f":"'[1]RoFRS 0.1% + Central undef'!T32","v":100},{"$f":"'[1]RoFSW - High risk'!V32","v":0.105881553114881},{"$f":"'[1]RoFSW - Med risk'!T32","v":0.105881553114881},{"$f":"'[1]RoFSW - Low risk'!T32","v":0.25344274050718002},66.458684453374403,76.166781725681901,0,0,0,0,17,100,"Red"]
["HO/21/00073","Highfield Farm & Knocka Villa, Crow Drive, Halstead, TN14 7BW","Housing",0.35,{"$f":"'[1]Flood Map for Planning '!AB33","v":100},{"$f":"'[1]Flood Map for Planning '!T33","v":0},{"$f":"'[1]Flood Map for Planning '!V33","v":0},{"$f":"[1]FZ3b!Y33","v":0},{"$f":"'[1]Fluvial 1% plus Central CC'!T33","v":0},{"$f":"'[1]Fluvial 1% plus HC_CC'!T33","v":0},{"$f":"'[1]Fluvial 1% plus UE_CC'!T33","v":0},{"$f":"'[1]RoFRS 1% + Central undef'!T33","v":0},{"$f":"'[1]RoFRS 0.1% + Central undef'!T33","v":0},{"$f":"'[1]RoFSW - High risk'!V33","v":0},{"$f":"'[1]RoFSW - Med risk'!T33","v":0},{"$f":"'[1]RoFSW - Low risk'!T33","v":0},0,0,0,0,0,0,0,0,"Green"]
["HO/21/00076","9 Clare Way, Sevenoaks","Housing",0.08,{"$f":"'[1]Flood Map for Planning '!AB34","v":100},{"$f":"'[1]Flood Map for Planning '!T34","v":0},{"$f":"'[1]Flood Map for Planning '!V34","v":0},{"$f":"[1]FZ3b!Y34","v":0},{"$f":"'[1]Fluvial 1% plus Central CC'!T34","v":0},{"$f":"'[1]Fluvial 1% plus HC_CC'!T34","v":0},{"$f":"'[1]Fluvial 1% plus UE_CC'!T34","v":0},{"$f":"'[1]RoFRS 1% + Central undef'!T34","v":0},{"$f":"'[1]RoFRS 0.1% + Central undef'!T34","v":0},{"$f":"'[1]RoFSW - High risk'!V34","v":0},{"$f":"'[1]RoFSW - Med risk'!T34","v":0},{"$f":"'[1]RoFSW - Low risk'!T34","v":16.2381702254659},0,0,0,0,0,0,5,0,"Green"]
["HO/21/00079","Baldwin's Yard, Noah's Ark, Kemsing","Housing",0.38,{"$f":"'[1]Flood Map for Planning '!AB35","v":100},{"$f":"'[1]Flood Map for Planning '!T35","v":0},{"$f":"'[1]Flood Map for Planning '!V35","v":0},{"$f":"[1]FZ3b!Y35","v":0},{"$f":"'[1]Fluvial 1% plus Central CC'!T35","v":0},{"$f":"'[1]Fluvial 1% plus HC_CC'!T35","v":0},{"$f":"'[1]Fluvial 1% plus UE_CC'!T35","v":0},{"$f":"'[1]RoFRS 1% + Central undef'!T35","v":0},{"$f":"'[1]RoFRS 0.1% + Central undef'!T35","v":0},{"$f":"'[1]RoFSW - High risk'!V35","v":0},{"$f":"'[1]RoFSW - Med risk'!T35","v":0},{"$f":"'[1]RoFSW - Low risk'!T35","v":0},0,0,0,0,0,0,2,0,"Green"]
["HO/21/00094","Land at Oakview Stud Farm, Lombard Street, Horton Kirby","Housing",1.1200000000000001,{"$f":"'[1]Flood Map for Planning '!AB36","v":100},{"$f":"'[1]Flood Map for Planning '!T36","v":0},{"$f":"'[1]Flood Map for Planning '!V36","v":0},{"$f":"[1]FZ3b!Y36","v":0},{"$f":"'[1]Fluvial 1% plus Central CC'!T36","v":0},{"$f":"'[1]Fluvial 1% plus HC_CC'!T36","v":0},{"$f":"'[1]Fluvial 1% plus UE_CC'!T36","v":0},{"$f":"'[1]RoFRS 1% + Central undef'!T36","v":0},{"$f":"'[1]RoFRS 0.1% + Central undef'!T36","v":0},{"$f":"'[1]RoFSW - High risk'!V36","v":8.1547097263324098},{"$f":"'[1]RoFSW - Med risk'!T36","v":15.1103336325583},{"$f":"'[1]RoFSW - Low risk'!T36","v":28.160039196360799},22.0219375475797,26.756389307094299,0,0,0,0,12,0,"Amber"]
["HO/21/00096","Meadow View (aka Fen's Farm), Top Dartford Road, Hextable","Housing",7.61,{"$f":"'[1]Flood Map for Planning '!AB37","v":100},{"$f":"'[1]Flood Map for Planning '!T37","v":0},{"$f":"'[1]Flood Map for Planning '!V37","v":0},{"$f":"[1]FZ3b!Y37","v":0},{"$f":"'[1]Fluvial 1% plus Central CC'!T37","v":0},{"$f":"'[1]Fluvial 1% plus HC_CC'!T37","v":0},{"$f":"'[1]Fluvial 1% plus UE_CC'!T37","v":0},{"$f":"'[1]RoFRS 1% + Central undef'!T37","v":0},{"$f":"'[1]RoFRS 0.1% + Central undef'!T37","v":0},{"$f":"'[1]RoFSW - High risk'!V37","v":12.302042333341401},{"$f":"'[1]RoFSW - Med risk'!T37","v":17.580383779299002},{"$f":"'[1]RoFSW - Low risk'!T37","v":21.4840619860028},21.148856766073902,21.994068363423001,0,0,0,0,4,0,"Amber"]
["HO/21/00097","The Stables at Oakview Stud Farm, Lombard Street, Horton Kirby","Housing",1.1299999999999999,{"$f":"'[1]Flood Map for Planning '!AB38","v":100},{"$f":"'[1]Flood Map for Planning '!T38","v":0},{"$f":"'[1]Flood Map for Planning '!V38","v":0},{"$f":"[1]FZ3b!Y38","v":0},{"$f":"'[1]Fluvial 1% plus Central CC'!T38","v":0},{"$f":"'[1]Fluvial 1% plus HC_CC'!T38","v":0},{"$f":"'[1]Fluvial 1% plus UE_CC'!T38","v":0},{"$f":"'[1]RoFRS 1% + Central undef'!T38","v":0},{"$f":"'[1]RoFRS 0.1% + Central undef'!T38","v":0},{"$f":"'[1]RoFSW - High risk'!V38","v":0},{"$f":"'[1]RoFSW - Med risk'!T38","v":0},{"$f":"'[1]RoFSW - Low risk'!T38","v":0},0,0,0,0,0,0,4,0,"Green"]
["HO/21/00103","The Limes and Jonquils, Bough Beech Road, Four Elms","Housing",0.35,{"$f":"'[1]Flood Map for Planning '!AB39","v":100},{"$f":"'[1]Flood Map for Planning '!T39","v":0},{"$f":"'[1]Flood Map for Planning '!V39","v":0},{"$f":"[1]FZ3b!Y39","v":0},{"$f":"'[1]Fluvial 1% plus Central CC'!T39","v":0},{"$f":"'[1]Fluvial 1% plus HC_CC'!T39","v":0},{"$f":"'[1]Fluvial 1% plus UE_CC'!T39","v":0},{"$f":"'[1]RoFRS 1% + Central undef'!T39","v":0},{"$f":"'[1]RoFRS 0.1% + Central undef'!T39","v":0},{"$f":"'[1]RoFSW - High risk'!V39","v":1.9895699996888599E-2},{"$f":"'[1]RoFSW - Med risk'!T39","v":3.0705779031303001E-2},{"$f":"'[1]RoFSW - Low risk'!T39","v":5.81732027763514E-2},7.5610894131145398E-2,7.5610894131144996E-2,0,0,0,0,37,0,"Green"]
["HO/21/00107","Heaver Trading Estate & Swan Meadows Farm, Ash Road, New Ash Green","Housing",2.92,{"$f":"'[1]Flood Map for Planning '!AB40","v":100},{"$f":"'[1]Flood Map for Planning '!T40","v":0},{"$f":"'[1]Flood Map for Planning '!V40","v":0},{"$f":"[1]FZ3b!Y40","v":0},{"$f":"'[1]Fluvial 1% plus Central CC'!T40","v":0},{"$f":"'[1]Fluvial 1% plus HC_CC'!T40","v":0},{"$f":"'[1]Fluvial 1% plus UE_CC'!T40","v":0},{"$f":"'[1]RoFRS 1% + Central undef'!T40","v":0},{"$f":"'[1]RoFRS 0.1% + Central undef'!T40","v":0},{"$f":"'[1]RoFSW - High risk'!V40","v":1.9825138521986101},{"$f":"'[1]RoFSW - Med risk'!T40","v":5.8505755649587803},{"$f":"'[1]RoFSW - Low risk'!T40","v":11.467074061074999},1.1573744043382601,2.0902873844447498,0,0,0,0,7,0,"Green"]
["HO/21/00120","Land on the south side of West End, Kemsing","Housing",0.38,{"$f":"'[1]Flood Map for Planning '!AB41","v":100},{"$f":"'[1]Flood Map for Planning '!T41","v":0},{"$f":"'[1]Flood Map for Planning '!V41","v":0},{"$f":"[1]FZ3b!Y41","v":0},{"$f":"'[1]Fluvial 1% plus Central CC'!T41","v":0},{"$f":"'[1]Fluvial 1% plus HC_CC'!T41","v":0},{"$f":"'[1]Fluvial 1% plus UE_CC'!T41","v":0},{"$f":"'[1]RoFRS 1% + Central undef'!T41","v":0},{"$f":"'[1]RoFRS 0.1% + Central undef'!T41","v":0},{"$f":"'[1]RoFSW - High risk'!V41","v":0},{"$f":"'[1]RoFSW - Med risk'!T41","v":0},{"$f":"'[1]RoFSW - Low risk'!T41","v":0},0,0,0,0,0,0,5,0,"Green"]
["HO/21/00135","Land west of College Cottages, Hextable","Housing",0.65,{"$f":"'[1]Flood Map for Planning '!AB42","v":100},{"$f":"'[1]Flood Map for Planning '!T42","v":0},{"$f":"'[1]Flood Map for Planning '!V42","v":0},{"$f":"[1]FZ3b!Y42","v":0},{"$f":"'[1]Fluvial 1% plus Central CC'!T42","v":0},{"$f":"'[1]Fluvial 1% plus HC_CC'!T42","v":0},{"$f":"'[1]Fluvial 1% plus UE_CC'!T42","v":0},{"$f":"'[1]RoFRS 1% + Central undef'!T42","v":0},{"$f":"'[1]RoFRS 0.1% + Central undef'!T42","v":0},{"$f":"'[1]RoFSW - High risk'!V42","v":0},{"$f":"'[1]RoFSW - Med risk'!T42","v":1.4664144689983201},{"$f":"'[1]RoFSW - Low risk'!T42","v":1.52751504457035},6.47666272654424,7.5928152432972604,0,0,0,0,0,0,"Green"]
["HO/21/00134","Land rear of College Cottages, Hextable","Housing",1.9,{"$f":"'[1]Flood Map for Planning '!AB43","v":100},{"$f":"'[1]Flood Map for Planning '!T43","v":0},{"$f":"'[1]Flood Map for Planning '!V43","v":0},{"$f":"[1]FZ3b!Y43","v":0},{"$f":"'[1]Fluvial 1% plus Central CC'!T43","v":0},{"$f":"'[1]Fluvial 1% plus HC_CC'!T43","v":0},{"$f":"'[1]Fluvial 1% plus UE_CC'!T43","v":0},{"$f":"'[1]RoFRS 1% + Central undef'!T43","v":0},{"$f":"'[1]RoFRS 0.1% + Central undef'!T43","v":0},{"$f":"'[1]RoFSW - High risk'!V43","v":0},{"$f":"'[1]RoFSW - Med risk'!T43","v":0},{"$f":"'[1]RoFSW - Low risk'!T43","v":0},0,0,7.7350039493692604,42.706430756298303,0,0,0,0,"Green"]
["HO/21/00148","Old Forge Yard, Swanley Village Road, Swanley Village","Housing",0.31,{"$f":"'[1]Flood Map for Planning '!AB44","v":100},{"$f":"'[1]Flood Map for Planning '!T44","v":0},{"$f":"'[1]Flood Map for Planning '!V44","v":0},{"$f":"[1]FZ3b!Y44","v":0},{"$f":"'[1]Fluvial 1% plus Central CC'!T44","v":0},{"$f":"'[1]Fluvial 1% plus HC_CC'!T44","v":0},{"$f":"'[1]Fluvial 1% plus UE_CC'!T44","v":0},{"$f":"'[1]RoFRS 1% + Central undef'!T44","v":0},{"$f":"'[1]RoFRS 0.1% + Central undef'!T44","v":0},{"$f":"'[1]RoFSW - High risk'!V44","v":0},{"$f":"'[1]RoFSW - Med risk'!T44","v":0},{"$f":"'[1]RoFSW - Low risk'!T44","v":3.55937267732791},0,0,0,0,0,0,7,0,"Green"]
["HO/21/00170","Land east of Gorringe Avenue, Southdowns","Housing",0.17,{"$f":"'[1]Flood Map for Planning '!AB45","v":100},{"$f":"'[1]Flood Map for Planning '!T45","v":0},{"$f":"'[1]Flood Map for Planning '!V45","v":0},{"$f":"[1]FZ3b!Y45","v":0},{"$f":"'[1]Fluvial 1% plus Central CC'!T45","v":0},{"$f":"'[1]Fluvial 1% plus HC_CC'!T45","v":0},{"$f":"'[1]Fluvial 1% plus UE_CC'!T45","v":0},{"$f":"'[1]RoFRS 1% + Central undef'!T45","v":0},{"$f":"'[1]RoFRS 0.1% + Central undef'!T45","v":0},{"$f":"'[1]RoFSW - High risk'!V45","v":0},{"$f":"'[1]RoFSW - Med risk'!T45","v":0},{"$f":"'[1]RoFSW - Low risk'!T45","v":0},0,0,0,0,0,0,3,0,"Green"]
["HO/21/00171","Land north of Gorringe Avenue, Southdowns","Housing",0.28000000000000003,{"$f":"'[1]Flood Map for Planning '!AB46","v":100},{"$f":"'[1]Flood Map for Planning '!T46","v":0},{"$f":"'[1]Flood Map for Planning '!V46","v":0},{"$f":"[1]FZ3b!Y46","v":0},{"$f":"'[1]Fluvial 1% plus Central CC'!T46","v":0},{"$f":"'[1]Fluvial 1% plus HC_CC'!T46","v":0},{"$f":"'[1]Fluvial 1% plus UE_CC'!T46","v":0},{"$f":"'[1]RoFRS 1% + Central undef'!T46","v":0},{"$f":"'[1]RoFRS 0.1% + Central undef'!T46","v":0},{"$f":"'[1]RoFSW - High risk'!V46","v":0},{"$f":"'[1]RoFSW - Med risk'!T46","v":0},{"$f":"'[1]RoFSW - Low risk'!T46","v":0},0,0,0,0,0,0,0,0,"Green"]
["HO/21/00172","Land north of Rabbits Road, South Darenth","Housing",3.08,{"$f":"'[1]Flood Map for Planning '!AB47","v":100},{"$f":"'[1]Flood Map for Planning '!T47","v":0},{"$f":"'[1]Flood Map for Planning '!V47","v":0},{"$f":"[1]FZ3b!Y47","v":0},{"$f":"'[1]Fluvial 1% plus Central CC'!T47","v":0},{"$f":"'[1]Fluvial 1% plus HC_CC'!T47","v":0},{"$f":"'[1]Fluvial 1% plus UE_CC'!T47","v":0},{"$f":"'[1]RoFRS 1% + Central undef'!T47","v":0},{"$f":"'[1]RoFRS 0.1% + Central undef'!T47","v":0},{"$f":"'[1]RoFSW - High risk'!V47","v":0},{"$f":"'[1]RoFSW - Med risk'!T47","v":0},{"$f":"'[1]RoFSW - Low risk'!T47","v":0.31144433176444702},0,0,0,0,0,0,4,0,"Green"]
["HO/21/00173","Land south of Prince Charles Avenue, Southdowns, South Darenth","Housing",1.08,{"$f":"'[1]Flood Map for Planning '!AB48","v":100},{"$f":"'[1]Flood Map for Planning '!T48","v":0},{"$f":"'[1]Flood Map for Planning '!V48","v":0},{"$f":"[1]FZ3b!Y48","v":0},{"$f":"'[1]Fluvial 1% plus Central CC'!T48","v":0},{"$f":"'[1]Fluvial 1% plus HC_CC'!T48","v":0},{"$f":"'[1]Fluvial 1% plus UE_CC'!T48","v":0},{"$f":"'[1]RoFRS 1% + Central undef'!T48","v":0},{"$f":"'[1]RoFRS 0.1% + Central undef'!T48","v":0},{"$f":"'[1]RoFSW - High risk'!V48","v":0},{"$f":"'[1]RoFSW - Med risk'!T48","v":0},{"$f":"'[1]RoFSW - Low risk'!T48","v":9.8467906716771108},0,5.9068650383132697,0,0,0,0,1,0,"Green"]
["HO/21/00175","Land south of garages, Prince Charles Avenue, Southdowns, South Darenth","Housing",0.28999999999999998,{"$f":"'[1]Flood Map for Planning '!AB49","v":100},{"$f":"'[1]Flood Map for Planning '!T49","v":0},{"$f":"'[1]Flood Map for Planning '!V49","v":0},{"$f":"[1]FZ3b!Y49","v":0},{"$f":"'[1]Fluvial 1% plus Central CC'!T49","v":0},{"$f":"'[1]Fluvial 1% plus HC_CC'!T49","v":0},{"$f":"'[1]Fluvial 1% plus UE_CC'!T49","v":0},{"$f":"'[1]RoFRS 1% + Central undef'!T49","v":0},{"$f":"'[1]RoFRS 0.1% + Central undef'!T49","v":0},{"$f":"'[1]RoFSW - High risk'!V49","v":0},{"$f":"'[1]RoFSW - Med risk'!T49","v":0.45285660707967601},{"$f":"'[1]RoFSW - Low risk'!T49","v":0.80129580437212899},0,0,0,0,0,0,0,0,"Green"]
["HO/21/00176","Land south of Victoria Drive, Southdowns, South Darenth","Housing",0.14000000000000001,{"$f":"'[1]Flood Map for Planning '!AB50","v":100},{"$f":"'[1]Flood Map for Planning '!T50","v":0},{"$f":"'[1]Flood Map for Planning '!V50","v":0},{"$f":"[1]FZ3b!Y50","v":0},{"$f":"'[1]Fluvial 1% plus Central CC'!T50","v":0},{"$f":"'[1]Fluvial 1% plus HC_CC'!T50","v":0},{"$f":"'[1]Fluvial 1% plus UE_CC'!T50","v":0},{"$f":"'[1]RoFRS 1% + Central undef'!T50","v":0},{"$f":"'[1]RoFRS 0.1% + Central undef'!T50","v":0},{"$f":"'[1]RoFSW - High risk'!V50","v":0},{"$f":"'[1]RoFSW - Med risk'!T50","v":0},{"$f":"'[1]RoFSW - Low risk'!T50","v":0},0,0,0,0,0,0,0,0,"Green"]
["HO/21/00188","Land opposite Penshurst Station, to the rear of the Little Brown Jug, Chiddingstone Causeway","Housing",9.99,{"$f":"'[1]Flood Map for Planning '!AB51","v":100},{"$f":"'[1]Flood Map for Planning '!T51","v":0},{"$f":"'[1]Flood Map for Planning '!V51","v":0},{"$f":"[1]FZ3b!Y51","v":0},{"$f":"'[1]Fluvial 1% plus Central CC'!T51","v":0},{"$f":"'[1]Fluvial 1% plus HC_CC'!T51","v":0},{"$f":"'[1]Fluvial 1% plus UE_CC'!T51","v":0},{"$f":"'[1]RoFRS 1% + Central undef'!T51","v":0},{"$f":"'[1]RoFRS 0.1% + Central undef'!T51","v":0},{"$f":"'[1]RoFSW - High risk'!V51","v":2.30878632779919},{"$f":"'[1]RoFSW - Med risk'!T51","v":3.3500833469773799},{"$f":"'[1]RoFSW - Low risk'!T51","v":7.0658271923168199},3.2826955613986701,3.6418735391459598,0,0,0,0,12,0,"Green"]
["HO/21/00191","The Highways Depot, Tonbridge Road, Chiddingstone Causeway","Housing",0.21,{"$f":"'[1]Flood Map for Planning '!AB52","v":100},{"$f":"'[1]Flood Map for Planning '!T52","v":0},{"$f":"'[1]Flood Map for Planning '!V52","v":0},{"$f":"[1]FZ3b!Y52","v":0},{"$f":"'[1]Fluvial 1% plus Central CC'!T52","v":0},{"$f":"'[1]Fluvial 1% plus HC_CC'!T52","v":0},{"$f":"'[1]Fluvial 1% plus UE_CC'!T52","v":0},{"$f":"'[1]RoFRS 1% + Central undef'!T52","v":0},{"$f":"'[1]RoFRS 0.1% + Central undef'!T52","v":0},{"$f":"'[1]RoFSW - High risk'!V52","v":0},{"$f":"'[1]RoFSW - Med risk'!T52","v":0},{"$f":"'[1]RoFSW - Low risk'!T52","v":0},0.367412307776188,5.7594454702279103,0,0,0,0,7,0,"Green"]
["HO/21/00204","Rye Cottage, Rye Lane, Dunton Green, TN14 5HW","Housing",1.1000000000000001,{"$f":"'[1]Flood Map for Planning '!AB53","v":100},{"$f":"'[1]Flood Map for Planning '!T53","v":0},{"$f":"'[1]Flood Map for Planning '!V53","v":0},{"$f":"[1]FZ3b!Y53","v":0},{"$f":"'[1]Fluvial 1% plus Central CC'!T53","v":0},{"$f":"'[1]Fluvial 1% plus HC_CC'!T53","v":0},{"$f":"'[1]Fluvial 1% plus UE_CC'!T53","v":0},{"$f":"'[1]RoFRS 1% + Central undef'!T53","v":0},{"$f":"'[1]RoFRS 0.1% + Central undef'!T53","v":0},{"$f":"'[1]RoFSW - High risk'!V53","v":5.9763164790313299},{"$f":"'[1]RoFSW - Med risk'!T53","v":6.2678441297795402},{"$f":"'[1]RoFSW - Low risk'!T53","v":6.5229307694079797},5.8495724770842097,6.9792419970236299,0,0,0,0,0,0,"Green"]
["HO/21/00217","Land adjacent Puddledock Lane, Top Dartford Road, Hextable","Housing",2.65,{"$f":"'[1]Flood Map for Planning '!AB54","v":100},{"$f":"'[1]Flood Map for Planning '!T54","v":0},{"$f":"'[1]Flood Map for Planning '!V54","v":0},{"$f":"[1]FZ3b!Y54","v":0},{"$f":"'[1]Fluvial 1% plus Central CC'!T54","v":0},{"$f":"'[1]Fluvial 1% plus HC_CC'!T54","v":0},{"$f":"'[1]Fluvial 1% plus UE_CC'!T54","v":0},{"$f":"'[1]RoFRS 1% + Central undef'!T54","v":0},{"$f":"'[1]RoFRS 0.1% + Central undef'!T54","v":0},{"$f":"'[1]RoFSW - High risk'!V54","v":0},{"$f":"'[1]RoFSW - Med risk'!T54","v":0},{"$f":"'[1]RoFSW - Low risk'!T54","v":0},0,0,0,0,0,0,2,0,"Green"]
["HO/21/00223","Land south of Lower Road, Hextable","Housing",4.99,{"$f":"'[1]Flood Map for Planning '!AB55","v":100},{"$f":"'[1]Flood Map for Planning '!T55","v":0},{"$f":"'[1]Flood Map for Planning '!V55","v":0},{"$f":"[1]FZ3b!Y55","v":0},{"$f":"'[1]Fluvial 1% plus Central CC'!T55","v":0},{"$f":"'[1]Fluvial 1% plus HC_CC'!T55","v":0},{"$f":"'[1]Fluvial 1% plus UE_CC'!T55","v":0},{"$f":"'[1]RoFRS 1% + Central undef'!T55","v":0},{"$f":"'[1]RoFRS 0.1% + Central undef'!T55","v":0},{"$f":"'[1]RoFSW - High risk'!V55","v":0},{"$f":"'[1]RoFSW - Med risk'!T55","v":0},{"$f":"'[1]RoFSW - Low risk'!T55","v":8.72341584554719E-5},9.5620687605203706E-3,1.7252721200092001E-2,0,16.355558267880099,0,0,28,0,"Green"]
["HO/21/00262","6 Pounsley Road / Darenth Lane and 20 London Road, Dunton Green","Housing",7.0000000000000007E-2,{"$f":"'[1]Flood Map for Planning '!AB56","v":83.397150488784007},{"$f":"'[1]Flood Map for Planning '!T56","v":16.602849511216},{"$f":"'[1]Flood Map for Planning '!V56","v":0},{"$f":"[1]FZ3b!Y56","v":0},{"$f":"'[1]Fluvial 1% plus Central CC'!T56","v":0},{"$f":"'[1]Fluvial 1% plus HC_CC'!T56","v":0},{"$f":"'[1]Fluvial 1% plus UE_CC'!T56","v":3.85520038818817},{"$f":"'[1]RoFRS 1% + Central undef'!T56","v":0},{"$f":"'[1]RoFRS 0.1% + Central undef'!T56","v":16.602849482068699},{"$f":"'[1]RoFSW - High risk'!V56","v":0},{"$f":"'[1]RoFSW - Med risk'!T56","v":0.45375061958512403},{"$f":"'[1]RoFSW - Low risk'!T56","v":14.4855691984082},8.3858311345160599E-2,8.3858311345161002E-2,0,0,0,0,12,10.629167730438301,"Amber"]
["HO/21/00232","Land south west of Skinners Farm, Edenbridge","Housing",8.31,{"$f":"'[1]Flood Map for Planning '!AB57","v":61.382907826909609},{"$f":"'[1]Flood Map for Planning '!T57","v":37.527578497611401},{"$f":"'[1]Flood Map for Planning '!V57","v":1.08951367547899},{"$f":"[1]FZ3b!Y57","v":0},{"$f":"'[1]Fluvial 1% plus Central CC'!T57","v":4.2701042673136804},{"$f":"'[1]Fluvial 1% plus HC_CC'!T57","v":5.6030407471025896},{"$f":"'[1]Fluvial 1% plus UE_CC'!T57","v":10.525414897661401},{"$f":"'[1]RoFRS 1% + Central undef'!T57","v":4.5260841528995996},{"$f":"'[1]RoFRS 0.1% + Central undef'!T57","v":8.8544615141304401},{"$f":"'[1]RoFSW - High risk'!V57","v":3.8389413795555201},{"$f":"'[1]RoFSW - Med risk'!T57","v":5.0133441378905097},{"$f":"'[1]RoFSW - Low risk'!T57","v":8.6478704976538197},3.5697406197692998,3.8978996512895199,0,0,38.463196290729499,0,1,43.038017728544297,"Amber"]
["HO/21/00289","Land east of London Road, Dunton Green, Sevenoaks","Housing",9.5299999999999994,{"$f":"'[1]Flood Map for Planning '!AB58","v":100},{"$f":"'[1]Flood Map for Planning '!T58","v":0},{"$f":"'[1]Flood Map for Planning '!V58","v":0},{"$f":"[1]FZ3b!Y58","v":0},{"$f":"'[1]Fluvial 1% plus Central CC'!T58","v":0},{"$f":"'[1]Fluvial 1% plus HC_CC'!T58","v":0},{"$f":"'[1]Fluvial 1% plus UE_CC'!T58","v":0},{"$f":"'[1]RoFRS 1% + Central undef'!T58","v":0},{"$f":"'[1]RoFRS 0.1% + Central undef'!T58","v":0},{"$f":"'[1]RoFSW - High risk'!V58","v":6.2204554056231096},{"$f":"'[1]RoFSW - Med risk'!T58","v":8.2137638585957191},{"$f":"'[1]RoFSW - Low risk'!T58","v":15.4071992560396},13.696610615205,18.4094214692626,0,7.1583344136081195E-2,0,0,11,0,"Green"]
["HO/21/00202","Ryecroft, Ryecroft Road, Otford","Housing",0.22,{"$f":"'[1]Flood Map for Planning '!AB59","v":100},{"$f":"'[1]Flood Map for Planning '!T59","v":0},{"$f":"'[1]Flood Map for Planning '!V59","v":0},{"$f":"[1]FZ3b!Y59","v":0},{"$f":"'[1]Fluvial 1% plus Central CC'!T59","v":0},{"$f":"'[1]Fluvial 1% plus HC_CC'!T59","v":0},{"$f":"'[1]Fluvial 1% plus UE_CC'!T59","v":0},{"$f":"'[1]RoFRS 1% + Central undef'!T59","v":0},{"$f":"'[1]RoFRS 0.1% + Central undef'!T59","v":0},{"$f":"'[1]RoFSW - High risk'!V59","v":0},{"$f":"'[1]RoFSW - Med risk'!T59","v":0},{"$f":"'[1]RoFSW - Low risk'!T59","v":0},1.9595985612767E-2,4.4968379531488002E-2,0,0,0,0,9,0,"Green"]
["HO/21/00086","Fawkham Business Park, Fawkham Road, Fawkham","Housing",0.67,{"$f":"'[1]Flood Map for Planning '!AB60","v":100},{"$f":"'[1]Flood Map for Planning '!T60","v":0},{"$f":"'[1]Flood Map for Planning '!V60","v":0},{"$f":"[1]FZ3b!Y60","v":0},{"$f":"'[1]Fluvial 1% plus Central CC'!T60","v":0},{"$f":"'[1]Fluvial 1% plus HC_CC'!T60","v":0},{"$f":"'[1]Fluvial 1% plus UE_CC'!T60","v":0},{"$f":"'[1]RoFRS 1% + Central undef'!T60","v":0},{"$f":"'[1]RoFRS 0.1% + Central undef'!T60","v":0},{"$f":"'[1]RoFSW - High risk'!V60","v":2.2209567464548399E-2},{"$f":"'[1]RoFSW - Med risk'!T60","v":0.61928389529857097},{"$f":"'[1]RoFSW - Low risk'!T60","v":1.85185453912205},2.80099799502069,4.5134050130245802,0,0,0,0,0,0,"Green"]
["HO/21/00168","Land at Lingfield Road, Edenbridge","Housing",2.12,{"$f":"'[1]Flood Map for Planning '!AB61","v":100},{"$f":"'[1]Flood Map for Planning '!T61","v":0},{"$f":"'[1]Flood Map for Planning '!V61","v":0},{"$f":"[1]FZ3b!Y61","v":0},{"$f":"'[1]Fluvial 1% plus Central CC'!T61","v":0},{"$f":"'[1]Fluvial 1% plus HC_CC'!T61","v":0},{"$f":"'[1]Fluvial 1% plus UE_CC'!T61","v":0},{"$f":"'[1]RoFRS 1% + Central undef'!T61","v":0},{"$f":"'[1]RoFRS 0.1% + Central undef'!T61","v":0},{"$f":"'[1]RoFSW - High risk'!V61","v":2.6937609430804899},{"$f":"'[1]RoFSW - Med risk'!T61","v":4.5973050530912003},{"$f":"'[1]RoFSW - Low risk'!T61","v":6.3046309149788797},4.44582639639005,4.5955810991835202,0,0,0,0,11,0,"Green"]
["HO/21/00044","Land west of Lingfield Road Recreation Ground and East of Skeynes Farm Cotts, Lingfield Road, Edenbridge","Housing",3.19,{"$f":"'[1]Flood Map for Planning '!AB62","v":99.525043915655829},{"$f":"'[1]Flood Map for Planning '!T62","v":0.47495608434417802},{"$f":"'[1]Flood Map for Planning '!V62","v":0},{"$f":"[1]FZ3b!Y62","v":0},{"$f":"'[1]Fluvial 1% plus Central CC'!T62","v":0},{"$f":"'[1]Fluvial 1% plus HC_CC'!T62","v":0},{"$f":"'[1]Fluvial 1% plus UE_CC'!T62","v":0},{"$f":"'[1]RoFRS 1% + Central undef'!T62","v":0},{"$f":"'[1]RoFRS 0.1% + Central undef'!T62","v":0},{"$f":"'[1]RoFSW - High risk'!V62","v":6.4423327930012704},{"$f":"'[1]RoFSW - Med risk'!T62","v":11.903966538256601},{"$f":"'[1]RoFSW - Low risk'!T62","v":20.891065633575899},2.0230031777555499,2.1813057877888098,0,0,67.485809860265803,2.6159668282973101,10,0.474956082960453,"Amber"]
["HO/21/00226","Land west of Ashcombe Drive and Meadow Lane, Edenbridge","Housing",3.29,{"$f":"'[1]Flood Map for Planning '!AB63","v":100},{"$f":"'[1]Flood Map for Planning '!T63","v":0},{"$f":"'[1]Flood Map for Planning '!V63","v":0},{"$f":"[1]FZ3b!Y63","v":0},{"$f":"'[1]Fluvial 1% plus Central CC'!T63","v":0},{"$f":"'[1]Fluvial 1% plus HC_CC'!T63","v":0},{"$f":"'[1]Fluvial 1% plus UE_CC'!T63","v":0},{"$f":"'[1]RoFRS 1% + Central undef'!T63","v":0},{"$f":"'[1]RoFRS 0.1% + Central undef'!T63","v":0},{"$f":"'[1]RoFSW - High risk'!V63","v":4.2321867695188997},{"$f":"'[1]RoFSW - Med risk'!T63","v":5.3472463575939102},{"$f":"'[1]RoFSW - Low risk'!T63","v":7.6993836167915797},5.0080254614351896,5.0984451287096997,0,0,0,0,24,0,"Green"]
["HO/21/00287","Land at Cramptons Road, Sevenoaks","Housing",1.73,{"$f":"'[1]Flood Map for Planning '!AB64","v":100},{"$f":"'[1]Flood Map for Planning '!T64","v":0},{"$f":"'[1]Flood Map for Planning '!V64","v":0},{"$f":"[1]FZ3b!Y64","v":0},{"$f":"'[1]Fluvial 1% plus Central CC'!T64","v":0},{"$f":"'[1]Fluvial 1% plus HC_CC'!T64","v":0},{"$f":"'[1]Fluvial 1% plus UE_CC'!T64","v":0},{"$f":"'[1]RoFRS 1% + Central undef'!T64","v":0},{"$f":"'[1]RoFRS 0.1% + Central undef'!T64","v":0},{"$f":"'[1]RoFSW - High risk'!V64","v":7.0929585248091698},{"$f":"'[1]RoFSW - Med risk'!T64","v":10.492511677379699},{"$f":"'[1]RoFSW - Low risk'!T64","v":25.131500857031401},42.727518588707802,43.120664197753101,0,0,0,0,3,0,"Amber"]
["HO/21/00227","Land at Lullingstone Avenue, Swanley","Housing",2.59,{"$f":"'[1]Flood Map for Planning '!AB65","v":100},{"$f":"'[1]Flood Map for Planning '!T65","v":0},{"$f":"'[1]Flood Map for Planning '!V65","v":0},{"$f":"[1]FZ3b!Y65","v":0},{"$f":"'[1]Fluvial 1% plus Central CC'!T65","v":0},{"$f":"'[1]Fluvial 1% plus HC_CC'!T65","v":0},{"$f":"'[1]Fluvial 1% plus UE_CC'!T65","v":0},{"$f":"'[1]RoFRS 1% + Central undef'!T65","v":0},{"$f":"'[1]RoFRS 0.1% + Central undef'!T65","v":0},{"$f":"'[1]RoFSW - High risk'!V65","v":4.3554562130830901},{"$f":"'[1]RoFSW - Med risk'!T65","v":12.101291256383799},{"$f":"'[1]RoFSW - Low risk'!T65","v":22.966976332882201},23.122128660266199,25.361166381583299,0,0,0,0,11,0,"Amber"]
["HO/21/00164","Land west of New Ash Green","Housing",15.54,{"$f":"'[1]Flood Map for Planning '!AB66","v":100},{"$f":"'[1]Flood Map for Planning '!T66","v":0},{"$f":"'[1]Flood Map for Planning '!V66","v":0},{"$f":"[1]FZ3b!Y66","v":0},{"$f":"'[1]Fluvial 1% plus Central CC'!T66","v":0},{"$f":"'[1]Fluvial 1% plus HC_CC'!T66","v":0},{"$f":"'[1]Fluvial 1% plus UE_CC'!T66","v":0},{"$f":"'[1]RoFRS 1% + Central undef'!T66","v":0},{"$f":"'[1]RoFRS 0.1% + Central undef'!T66","v":0},{"$f":"'[1]RoFSW - High risk'!V66","v":0.14155832808458699},{"$f":"'[1]RoFSW - Med risk'!T66","v":0.16214863222984999},{"$f":"'[1]RoFSW - Low risk'!T66","v":2.2320612703442899},19.242770718637999,23.6148538852668,0,0,0,0,16,0,"Green"]
["HO/21/00277","42-44 Bullfinch Lane, Riverhead","Housing",0.26,{"$f":"'[1]Flood Map for Planning '!AB67","v":100},{"$f":"'[1]Flood Map for Planning '!T67","v":0},{"$f":"'[1]Flood Map for Planning '!V67","v":0},{"$f":"[1]FZ3b!Y67","v":0},{"$f":"'[1]Fluvial 1% plus Central CC'!T67","v":0},{"$f":"'[1]Fluvial 1% plus HC_CC'!T67","v":0},{"$f":"'[1]Fluvial 1% plus UE_CC'!T67","v":0},{"$f":"'[1]RoFRS 1% + Central undef'!T67","v":0},{"$f":"'[1]RoFRS 0.1% + Central undef'!T67","v":0},{"$f":"'[1]RoFSW - High risk'!V67","v":0},{"$f":"'[1]RoFSW - Med risk'!T67","v":0},{"$f":"'[1]RoFSW - Low risk'!T67","v":0},5.7751030727664601,5.7751030727664601,0,0,0,0,3,0,"Green"]
["HO/21/00059","Abacus Furntiure, Farm Road Garages","Housing",0.22,{"$f":"'[1]Flood Map for Planning '!AB68","v":73.005810526705886},{"$f":"'[1]Flood Map for Planning '!T68","v":18.683787478624598},{"$f":"'[1]Flood Map for Planning '!V68","v":8.31040199466951},{"$f":"[1]FZ3b!Y68","v":7.3500707747909804},{"$f":"'[1]Fluvial 1% plus Central CC'!T68","v":0},{"$f":"'[1]Fluvial 1% plus HC_CC'!T68","v":0},{"$f":"'[1]Fluvial 1% plus UE_CC'!T68","v":0},{"$f":"'[1]RoFRS 1% + Central undef'!T68","v":0},{"$f":"'[1]RoFRS 0.1% + Central undef'!T68","v":0},{"$f":"'[1]RoFSW - High risk'!V68","v":20.738912773882902},{"$f":"'[1]RoFSW - Med risk'!T68","v":23.665266648430801},{"$f":"'[1]RoFSW - Low risk'!T68","v":54.468590288340799},61.604828729852997,62.664876516701703,0,0,0,0,4,33.875291064619802,"Red"]
["HO/21/00228","Land at Crouch House Road, Edenbridge","Housing",18.239999999999998,{"$f":"'[1]Flood Map for Planning '!AB69","v":100},{"$f":"'[1]Flood Map for Planning '!T69","v":0},{"$f":"'[1]Flood Map for Planning '!V69","v":0},{"$f":"[1]FZ3b!Y69","v":0},{"$f":"'[1]Fluvial 1% plus Central CC'!T69","v":0},{"$f":"'[1]Fluvial 1% plus HC_CC'!T69","v":0},{"$f":"'[1]Fluvial 1% plus UE_CC'!T69","v":0},{"$f":"'[1]RoFRS 1% + Central undef'!T69","v":0},{"$f":"'[1]RoFRS 0.1% + Central undef'!T69","v":0},{"$f":"'[1]RoFSW - High risk'!V69","v":3.8898490511896999},{"$f":"'[1]RoFSW - Med risk'!T69","v":5.6881206798725499},{"$f":"'[1]RoFSW - Low risk'!T69","v":10.5853418306628},4.2589091328368998,4.6410646885752698,0,0,4.45482292243394,1.8566840917368701,25,0,"Green"]
["HO/21/00219","Land East of Fawkham Road West Kingsdown","Housing",5.1100000000000003,{"$f":"'[1]Flood Map for Planning '!AB70","v":100},{"$f":"'[1]Flood Map for Planning '!T70","v":0},{"$f":"'[1]Flood Map for Planning '!V70","v":0},{"$f":"[1]FZ3b!Y70","v":0},{"$f":"'[1]Fluvial 1% plus Central CC'!T70","v":0},{"$f":"'[1]Fluvial 1% plus HC_CC'!T70","v":0},{"$f":"'[1]Fluvial 1% plus UE_CC'!T70","v":0},{"$f":"'[1]RoFRS 1% + Central undef'!T70","v":0},{"$f":"'[1]RoFRS 0.1% + Central undef'!T70","v":0},{"$f":"'[1]RoFSW - High risk'!V70","v":0},{"$f":"'[1]RoFSW - Med risk'!T70","v":0},{"$f":"'[1]RoFSW - Low risk'!T70","v":0.354064103096279},5.6421381264002299,6.7958236779688201,0,0,0,0,2,0,"Green"]
["HO/21/00280","Land at Slides Farm, North Ash Road, New Ash Green","Housing",6.72,{"$f":"'[1]Flood Map for Planning '!AB71","v":100},{"$f":"'[1]Flood Map for Planning '!T71","v":0},{"$f":"'[1]Flood Map for Planning '!V71","v":0},{"$f":"[1]FZ3b!Y71","v":0},{"$f":"'[1]Fluvial 1% plus Central CC'!T71","v":0},{"$f":"'[1]Fluvial 1% plus HC_CC'!T71","v":0},{"$f":"'[1]Fluvial 1% plus UE_CC'!T71","v":0},{"$f":"'[1]RoFRS 1% + Central undef'!T71","v":0},{"$f":"'[1]RoFRS 0.1% + Central undef'!T71","v":0},{"$f":"'[1]RoFSW - High risk'!V71","v":1.58796622002027},{"$f":"'[1]RoFSW - Med risk'!T71","v":2.7114032196168001},{"$f":"'[1]RoFSW - Low risk'!T71","v":4.8211232973710398},5.9577668994175301,6.7653530157383104,0,0,0,0,5,0,"Green"]
["HO/21/00058","Orchard Farm, Fawkham Road, Longfield, Kent","Housing",0.81,{"$f":"'[1]Flood Map for Planning '!AB72","v":100},{"$f":"'[1]Flood Map for Planning '!T72","v":0},{"$f":"'[1]Flood Map for Planning '!V72","v":0},{"$f":"[1]FZ3b!Y72","v":0},{"$f":"'[1]Fluvial 1% plus Central CC'!T72","v":0},{"$f":"'[1]Fluvial 1% plus HC_CC'!T72","v":0},{"$f":"'[1]Fluvial 1% plus UE_CC'!T72","v":0},{"$f":"'[1]RoFRS 1% + Central undef'!T72","v":0},{"$f":"'[1]RoFRS 0.1% + Central undef'!T72","v":0},{"$f":"'[1]RoFSW - High risk'!V72","v":0},{"$f":"'[1]RoFSW - Med risk'!T72","v":0},{"$f":"'[1]RoFSW - Low risk'!T72","v":0},6.9489653586907096E-3,0.306512075093264,0,0,0,0,0,0,"Green"]
["HO/21/00047","Richardson's Farm, West Kingsdown","Housing",0.64,{"$f":"'[1]Flood Map for Planning '!AB73","v":100},{"$f":"'[1]Flood Map for Planning '!T73","v":0},{"$f":"'[1]Flood Map for Planning '!V73","v":0},{"$f":"[1]FZ3b!Y73","v":0},{"$f":"'[1]Fluvial 1% plus Central CC'!T73","v":0},{"$f":"'[1]Fluvial 1% plus HC_CC'!T73","v":0},{"$f":"'[1]Fluvial 1% plus UE_CC'!T73","v":0},{"$f":"'[1]RoFRS 1% + Central undef'!T73","v":0},{"$f":"'[1]RoFRS 0.1% + Central undef'!T73","v":0},{"$f":"'[1]RoFSW - High risk'!V73","v":0},{"$f":"'[1]RoFSW - Med risk'!T73","v":0},{"$f":"'[1]RoFSW - Low risk'!T73","v":0},11.4055201940643,17.079510469212799,0,0,0,0,1,0,"Green"]
["HO/21/00273","Land rear of Bowerwood House, 15 St Botolphs Road","Housing",0.19,{"$f":"'[1]Flood Map for Planning '!AB74","v":100},{"$f":"'[1]Flood Map for Planning '!T74","v":0},{"$f":"'[1]Flood Map for Planning '!V74","v":0},{"$f":"[1]FZ3b!Y74","v":0},{"$f":"'[1]Fluvial 1% plus Central CC'!T74","v":0},{"$f":"'[1]Fluvial 1% plus HC_CC'!T74","v":0},{"$f":"'[1]Fluvial 1% plus UE_CC'!T74","v":0},{"$f":"'[1]RoFRS 1% + Central undef'!T74","v":0},{"$f":"'[1]RoFRS 0.1% + Central undef'!T74","v":0},{"$f":"'[1]RoFSW - High risk'!V74","v":0.18209963637352999},{"$f":"'[1]RoFSW - Med risk'!T74","v":0.494685157222716},{"$f":"'[1]RoFSW - Low risk'!T74","v":5.9448877310093797},23.365986403313102,23.797570300041301,0,0,0,0,8,0,"Green"]
["HO/21/00238","The Forge, Ash","Housing",0.28000000000000003,{"$f":"'[1]Flood Map for Planning '!AB75","v":100},{"$f":"'[1]Flood Map for Planning '!T75","v":0},{"$f":"'[1]Flood Map for Planning '!V75","v":0},{"$f":"[1]FZ3b!Y75","v":0},{"$f":"'[1]Fluvial 1% plus Central CC'!T75","v":0},{"$f":"'[1]Fluvial 1% plus HC_CC'!T75","v":0},{"$f":"'[1]Fluvial 1% plus UE_CC'!T75","v":0},{"$f":"'[1]RoFRS 1% + Central undef'!T75","v":0},{"$f":"'[1]RoFRS 0.1% + Central undef'!T75","v":0},{"$f":"'[1]RoFSW - High risk'!V75","v":0},{"$f":"'[1]RoFSW - Med risk'!T75","v":0},{"$f":"'[1]RoFSW - Low risk'!T75","v":0},0,0,0,0,0,0,5,0,"Green"]
["HO/21/00271","Land west of Hale Lane, Otford","Housing",13.34,{"$f":"'[1]Flood Map for Planning '!AB76","v":100},{"$f":"'[1]Flood Map for Planning '!T76","v":0},{"$f":"'[1]Flood Map for Planning '!V76","v":0},{"$f":"[1]FZ3b!Y76","v":0},{"$f":"'[1]Fluvial 1% plus Central CC'!T76","v":0},{"$f":"'[1]Fluvial 1% plus HC_CC'!T76","v":0},{"$f":"'[1]Fluvial 1% plus UE_CC'!T76","v":0},{"$f":"'[1]RoFRS 1% + Central undef'!T76","v":0},{"$f":"'[1]RoFRS 0.1% + Central undef'!T76","v":0},{"$f":"'[1]RoFSW - High risk'!V76","v":0.67767450414453201},{"$f":"'[1]RoFSW - Med risk'!T76","v":0.69567153071157495},{"$f":"'[1]RoFSW - Low risk'!T76","v":0.87844808095973204},0.36293997480136297,0.36726902284007801,0,0,0,0,3,0,"Green"]
["HO/21/00062","Land adjacent to Banckside and Downs Valley, Hartley","Housing",6.09,{"$f":"'[1]Flood Map for Planning '!AB77","v":100},{"$f":"'[1]Flood Map for Planning '!T77","v":0},{"$f":"'[1]Flood Map for Planning '!V77","v":0},{"$f":"[1]FZ3b!Y77","v":0},{"$f":"'[1]Fluvial 1% plus Central CC'!T77","v":0},{"$f":"'[1]Fluvial 1% plus HC_CC'!T77","v":0},{"$f":"'[1]Fluvial 1% plus UE_CC'!T77","v":0},{"$f":"'[1]RoFRS 1% + Central undef'!T77","v":0},{"$f":"'[1]RoFRS 0.1% + Central undef'!T77","v":0},{"$f":"'[1]RoFSW - High risk'!V77","v":0},{"$f":"'[1]RoFSW - Med risk'!T77","v":0},{"$f":"'[1]RoFSW - Low risk'!T77","v":0},0,0,0,0,0,0,1,0,"Green"]
["HO/21/00032","Grosvenor, Church Road, Hartley","Housing",0.52,{"$f":"'[1]Flood Map for Planning '!AB78","v":100},{"$f":"'[1]Flood Map for Planning '!T78","v":0},{"$f":"'[1]Flood Map for Planning '!V78","v":0},{"$f":"[1]FZ3b!Y78","v":0},{"$f":"'[1]Fluvial 1% plus Central CC'!T78","v":0},{"$f":"'[1]Fluvial 1% plus HC_CC'!T78","v":0},{"$f":"'[1]Fluvial 1% plus UE_CC'!T78","v":0},{"$f":"'[1]RoFRS 1% + Central undef'!T78","v":0},{"$f":"'[1]RoFRS 0.1% + Central undef'!T78","v":0},{"$f":"'[1]RoFSW - High risk'!V78","v":0},{"$f":"'[1]RoFSW - Med risk'!T78","v":0},{"$f":"'[1]RoFSW - Low risk'!T78","v":0},0.61737097670670904,0.279182164633198,0,0,0,0,5,0,"Green"]
["HO/21/00264","Land west of allotments, Bradbourne Vale Road, Sevenoaks, TN13 3QQ","Housing",2.4900000000000002,{"$f":"'[1]Flood Map for Planning '!AB79","v":64.506062875496738},{"$f":"'[1]Flood Map for Planning '!T79","v":8.7868627874698593},{"$f":"'[1]Flood Map for Planning '!V79","v":26.707074337033401},{"$f":"[1]FZ3b!Y79","v":18.039511480190601},{"$f":"'[1]Fluvial 1% plus Central CC'!T79","v":0},{"$f":"'[1]Fluvial 1% plus HC_CC'!T79","v":0},{"$f":"'[1]Fluvial 1% plus UE_CC'!T79","v":0},{"$f":"'[1]RoFRS 1% + Central undef'!T79","v":29.756497527257199},{"$f":"'[1]RoFRS 0.1% + Central undef'!T79","v":36.918938187223901},{"$f":"'[1]RoFSW - High risk'!V79","v":0},{"$f":"'[1]RoFSW - Med risk'!T79","v":0.41728955153810798},{"$f":"'[1]RoFSW - Low risk'!T79","v":2.1410161980579501},19.715085345217499,20.4492542095775,0,0,0,0,8,13.198900505651499,"Red"]
["HO/21/00233","Land north of Skinners Lane, Edenbridge","Housing",14.38,{"$f":"'[1]Flood Map for Planning '!AB80","v":91.795504519870548},{"$f":"'[1]Flood Map for Planning '!T80","v":1.5753999018915401},{"$f":"'[1]Flood Map for Planning '!V80","v":6.6290955782379202},{"$f":"[1]FZ3b!Y80","v":5.1481540883400196},{"$f":"'[1]Fluvial 1% plus Central CC'!T80","v":0.37601192733324301},{"$f":"'[1]Fluvial 1% plus HC_CC'!T80","v":0.37601192733324301},{"$f":"'[1]Fluvial 1% plus UE_CC'!T80","v":0.37601192733324301},{"$f":"'[1]RoFRS 1% + Central undef'!T80","v":7.8292814480698798},{"$f":"'[1]RoFRS 0.1% + Central undef'!T80","v":10.504006951060701},{"$f":"'[1]RoFSW - High risk'!V80","v":2.3588830847772502},{"$f":"'[1]RoFSW - Med risk'!T80","v":3.26553113579129},{"$f":"'[1]RoFSW - Low risk'!T80","v":5.7555692302189101},8.7918178496156791,10.4026648995395,0,0,0.13007774403672601,0,10,20.1484660170652,"Red"]
["HO/21/00186","Land on the east side of London Road, West Kingsdown","Housing",1.36,{"$f":"'[1]Flood Map for Planning '!AB81","v":100},{"$f":"'[1]Flood Map for Planning '!T81","v":0},{"$f":"'[1]Flood Map for Planning '!V81","v":0},{"$f":"[1]FZ3b!Y81","v":0},{"$f":"'[1]Fluvial 1% plus Central CC'!T81","v":0},{"$f":"'[1]Fluvial 1% plus HC_CC'!T81","v":0},{"$f":"'[1]Fluvial 1% plus UE_CC'!T81","v":0},{"$f":"'[1]RoFRS 1% + Central undef'!T81","v":0},{"$f":"'[1]RoFRS 0.1% + Central undef'!T81","v":0},{"$f":"'[1]RoFSW - High risk'!V81","v":0},{"$f":"'[1]RoFSW - Med risk'!T81","v":1.3697417360673999E-2},{"$f":"'[1]RoFSW - Low risk'!T81","v":0.160434611911252},29.098790035014598,35.940366349052198,0,0,0,0,2,0,"Green"]
["HO/21/00118","Land off Morewood Close, Sevenoaks","Housing",0.46,{"$f":"'[1]Flood Map for Planning '!AB82","v":1.1814901581343804},{"$f":"'[1]Flood Map for Planning '!T82","v":2.71699610477742},{"$f":"'[1]Flood Map for Planning '!V82","v":96.101513737088197},{"$f":"[1]FZ3b!Y82","v":75.523027810004095},{"$f":"'[1]Fluvial 1% plus Central CC'!T82","v":0},{"$f":"'[1]Fluvial 1% plus HC_CC'!T82","v":0},{"$f":"'[1]Fluvial 1% plus UE_CC'!T82","v":0},{"$f":"'[1]RoFRS 1% + Central undef'!T82","v":97.436572009793196},{"$f":"'[1]RoFRS 0.1% + Central undef'!T82","v":99.045467997402397},{"$f":"'[1]RoFSW - High risk'!V82","v":0},{"$f":"'[1]RoFSW - Med risk'!T82","v":0},{"$f":"'[1]RoFSW - Low risk'!T82","v":6.3107614915118901},99.045451949920306,99.118174552447101,0,0,0,0,2,0,"Red"]
["HO/21/00003","Pinetops, 5 Crownfields","Housing",0.28999999999999998,{"$f":"'[1]Flood Map for Planning '!AB83","v":100},{"$f":"'[1]Flood Map for Planning '!T83","v":0},{"$f":"'[1]Flood Map for Planning '!V83","v":0},{"$f":"[1]FZ3b!Y83","v":0},{"$f":"'[1]Fluvial 1% plus Central CC'!T83","v":0},{"$f":"'[1]Fluvial 1% plus HC_CC'!T83","v":0},{"$f":"'[1]Fluvial 1% plus UE_CC'!T83","v":0},{"$f":"'[1]RoFRS 1% + Central undef'!T83","v":0},{"$f":"'[1]RoFRS 0.1% + Central undef'!T83","v":0},{"$f":"'[1]RoFSW - High risk'!V83","v":0},{"$f":"'[1]RoFSW - Med risk'!T83","v":0},{"$f":"'[1]RoFSW - Low risk'!T83","v":0},0,0,0,0,0,0,12,0,"Green"]
["HO/21/00165","Land north of railway line and west of Beechenlea Lane, Swanley","Housing",20.7,{"$f":"'[1]Flood Map for Planning '!AB84","v":100},{"$f":"'[1]Flood Map for Planning '!T84","v":0},{"$f":"'[1]Flood Map for Planning '!V84","v":0},{"$f":"[1]FZ3b!Y84","v":0},{"$f":"'[1]Fluvial 1% plus Central CC'!T84","v":0},{"$f":"'[1]Fluvial 1% plus HC_CC'!T84","v":0},{"$f":"'[1]Fluvial 1% plus UE_CC'!T84","v":0},{"$f":"'[1]RoFRS 1% + Central undef'!T84","v":0},{"$f":"'[1]RoFRS 0.1% + Central undef'!T84","v":0},{"$f":"'[1]RoFSW - High risk'!V84","v":1.72330637740568},{"$f":"'[1]RoFSW - Med risk'!T84","v":2.57809320433529},{"$f":"'[1]RoFSW - Low risk'!T84","v":5.0235714727327903},5.3578216269913801,6.3496716226295398,0,0,0,0,7,0,"Green"]
["HO/21/00092","Garages, Conifer Way","Housing",0.19,{"$f":"'[1]Flood Map for Planning '!AB85","v":100},{"$f":"'[1]Flood Map for Planning '!T85","v":0},{"$f":"'[1]Flood Map for Planning '!V85","v":0},{"$f":"[1]FZ3b!Y85","v":0},{"$f":"'[1]Fluvial 1% plus Central CC'!T85","v":0},{"$f":"'[1]Fluvial 1% plus HC_CC'!T85","v":0},{"$f":"'[1]Fluvial 1% plus UE_CC'!T85","v":0},{"$f":"'[1]RoFRS 1% + Central undef'!T85","v":0},{"$f":"'[1]RoFRS 0.1% + Central undef'!T85","v":0},{"$f":"'[1]RoFSW - High risk'!V85","v":0},{"$f":"'[1]RoFSW - Med risk'!T85","v":0},{"$f":"'[1]RoFSW - Low risk'!T85","v":0},0,0,0,0,0,0,2,0,"Green"]
["HO/21/00279","Land to the rear of 34 Chipstead Park, Sevenoaks","Housing",1.24,{"$f":"'[1]Flood Map for Planning '!AB86","v":99.87772775957535},{"$f":"'[1]Flood Map for Planning '!T86","v":0},{"$f":"'[1]Flood Map for Planning '!V86","v":0.12227224042465},{"$f":"[1]FZ3b!Y86","v":0.12227224042465},{"$f":"'[1]Fluvial 1% plus Central CC'!T86","v":0.15698806430530099},{"$f":"'[1]Fluvial 1% plus HC_CC'!T86","v":0.15698806430530099},{"$f":"'[1]Fluvial 1% plus UE_CC'!T86","v":0.15698806430530099},{"$f":"'[1]RoFRS 1% + Central undef'!T86","v":0.14973935654755399},{"$f":"'[1]RoFRS 0.1% + Central undef'!T86","v":0.23218234782750199},{"$f":"'[1]RoFSW - High risk'!V86","v":7.5766616955043302},{"$f":"'[1]RoFSW - Med risk'!T86","v":11.287175850935},{"$f":"'[1]RoFSW - Low risk'!T86","v":17.160428062889899},27.1961688729684,27.422147301377901,0,0,0,0,3,16.839843315528199,"Amber"]
["HO/21/00005","Gabriels Farm House, Mill Hill, Edenbridge","Housing",0.26,{"$f":"'[1]Flood Map for Planning '!AB87","v":78.298474707135398},{"$f":"'[1]Flood Map for Planning '!T87","v":21.701525292864599},{"$f":"'[1]Flood Map for Planning '!V87","v":0},{"$f":"[1]FZ3b!Y87","v":0},{"$f":"'[1]Fluvial 1% plus Central CC'!T87","v":0},{"$f":"'[1]Fluvial 1% plus HC_CC'!T87","v":0},{"$f":"'[1]Fluvial 1% plus UE_CC'!T87","v":8.3428980518428994E-2},{"$f":"'[1]RoFRS 1% + Central undef'!T87","v":18.0721656596087},{"$f":"'[1]RoFRS 0.1% + Central undef'!T87","v":19.006954717315299},{"$f":"'[1]RoFSW - High risk'!V87","v":0},{"$f":"'[1]RoFSW - Med risk'!T87","v":0.27589920496973203},{"$f":"'[1]RoFSW - Low risk'!T87","v":4.7443160419146899},7.6279041371388797E-3,1.4160806480639001E-2,0,0,0,0,16,0,"Green"]
["HO/24/00001","Land north of Barnett Field, Blackhall Lane, Sevenoaks","Housing",1.17,{"$f":"'[1]Flood Map for Planning '!AB88","v":100},{"$f":"'[1]Flood Map for Planning '!T88","v":0},{"$f":"'[1]Flood Map for Planning '!V88","v":0},{"$f":"[1]FZ3b!Y88","v":0},{"$f":"'[1]Fluvial 1% plus Central CC'!T88","v":0},{"$f":"'[1]Fluvial 1% plus HC_CC'!T88","v":0},{"$f":"'[1]Fluvial 1% plus UE_CC'!T88","v":0},{"$f":"'[1]RoFRS 1% + Central undef'!T88","v":0},{"$f":"'[1]RoFRS 0.1% + Central undef'!T88","v":0},{"$f":"'[1]RoFSW - High risk'!V88","v":0},{"$f":"'[1]RoFSW - Med risk'!T88","v":0},{"$f":"'[1]RoFSW - Low risk'!T88","v":0},0,0,0,0,0,0,0,0,"Green"]
["HO/24/00015","Land south of Egerton Avenue, Hextable","Housing",0.19,{"$f":"'[1]Flood Map for Planning '!AB89","v":100},{"$f":"'[1]Flood Map for Planning '!T89","v":0},{"$f":"'[1]Flood Map for Planning '!V89","v":0},{"$f":"[1]FZ3b!Y89","v":0},{"$f":"'[1]Fluvial 1% plus Central CC'!T89","v":0},{"$f":"'[1]Fluvial 1% plus HC_CC'!T89","v":0},{"$f":"'[1]Fluvial 1% plus UE_CC'!T89","v":0},{"$f":"'[1]RoFRS 1% + Central undef'!T89","v":0},{"$f":"'[1]RoFRS 0.1% + Central undef'!T89","v":0},{"$f":"'[1]RoFSW - High risk'!V89","v":0},{"$f":"'[1]RoFSW - Med risk'!T89","v":0},{"$f":"'[1]RoFSW - Low risk'!T89","v":0},0,0,0,0,0,0,0,0,"Green"]
["HO/24/00018","Station Yard, Station Hill, Chiddingstone Causeway","Housing",0.86,{"$f":"'[1]Flood Map for Planning '!AB90","v":100},{"$f":"'[1]Flood Map for Planning '!T90","v":0},{"$f":"'[1]Flood Map for Planning '!V90","v":0},{"$f":"[1]FZ3b!Y90","v":0},{"$f":"'[1]Fluvial 1% plus Central CC'!T90","v":0},{"$f":"'[1]Fluvial 1% plus HC_CC'!T90","v":0},{"$f":"'[1]Fluvial 1% plus UE_CC'!T90","v":0},{"$f":"'[1]RoFRS 1% + Central undef'!T90","v":0},{"$f":"'[1]RoFRS 0.1% + Central undef'!T90","v":0},{"$f":"'[1]RoFSW - High risk'!V90","v":7.3485878357097301},{"$f":"'[1]RoFSW - Med risk'!T90","v":20.1793726454002},{"$f":"'[1]RoFSW - Low risk'!T90","v":22.696835969683999},9.4516598136386492,9.68475936456983,0,0.62898296174722801,0,0,0,0,"Amber"]
["HO/21/00036","Land West of the Croft, Bradbourne Vale Road","Housing",0.27,{"$f":"'[1]Flood Map for Planning '!AB91","v":100},{"$f":"'[1]Flood Map for Planning '!T91","v":0},{"$f":"'[1]Flood Map for Planning '!V91","v":0},{"$f":"[1]FZ3b!Y91","v":0},{"$f":"'[1]Fluvial 1% plus Central CC'!T91","v":0},{"$f":"'[1]Fluvial 1% plus HC_CC'!T91","v":0},{"$f":"'[1]Fluvial 1% plus UE_CC'!T91","v":0},{"$f":"'[1]RoFRS 1% + Central undef'!T91","v":0},{"$f":"'[1]RoFRS 0.1% + Central undef'!T91","v":0},{"$f":"'[1]RoFSW - High risk'!V91","v":0},{"$f":"'[1]RoFSW - Med risk'!T91","v":0},{"$f":"'[1]RoFSW - Low risk'!T91","v":0},0,0,0,0,0,0,5,0,"Green"]
["HO/25/00007","Land at Ash Road, Hartley","Housing",0.5,{"$f":"'[1]Flood Map for Planning '!AB92","v":100},{"$f":"'[1]Flood Map for Planning '!T92","v":0},{"$f":"'[1]Flood Map for Planning '!V92","v":0},{"$f":"[1]FZ3b!Y92","v":0},{"$f":"'[1]Fluvial 1% plus Central CC'!T92","v":0},{"$f":"'[1]Fluvial 1% plus HC_CC'!T92","v":0},{"$f":"'[1]Fluvial 1% plus UE_CC'!T92","v":0},{"$f":"'[1]RoFRS 1% + Central undef'!T92","v":0},{"$f":"'[1]RoFRS 0.1% + Central undef'!T92","v":0},{"$f":"'[1]RoFSW - High risk'!V92","v":0},{"$f":"'[1]RoFSW - Med risk'!T92","v":0},{"$f":"'[1]RoFSW - Low risk'!T92","v":0},0,0,0,0,0,0,0,0,"Green"]
["HO/25/00012","Land north of Sevenoaks, west of Otford Road","Housing",106.52,{"$f":"'[1]Flood Map for Planning '!AB93","v":64.354504579272998},{"$f":"'[1]Flood Map for Planning '!T93","v":11.779247127532001},{"$f":"'[1]Flood Map for Planning '!V93","v":23.866248293195},{"$f":"[1]FZ3b!Y93","v":13.6908953867656},{"$f":"'[1]Fluvial 1% plus Central CC'!T93","v":27.243678407210599},{"$f":"'[1]Fluvial 1% plus HC_CC'!T93","v":28.097782945737801},{"$f":"'[1]Fluvial 1% plus UE_CC'!T93","v":30.387086926789902},{"$f":"'[1]RoFRS 1% + Central undef'!T93","v":26.228156097267799},{"$f":"'[1]RoFRS 0.1% + Central undef'!T93","v":35.858147275509602},{"$f":"'[1]RoFSW - High risk'!V93","v":1.76315503744663},{"$f":"'[1]RoFSW - Med risk'!T93","v":2.57210464912409},{"$f":"'[1]RoFSW - Low risk'!T93","v":5.6573410479929196},9.6697439115528905,10.7373956965957,0,0,0,0,26,45.334912223406697,"Red"]
["HO/25/00013","Land west of Park Lane, Kemsing","Housing",0.14000000000000001,{"$f":"'[1]Flood Map for Planning '!AB94","v":100},{"$f":"'[1]Flood Map for Planning '!T94","v":0},{"$f":"'[1]Flood Map for Planning '!V94","v":0},{"$f":"[1]FZ3b!Y94","v":0},{"$f":"'[1]Fluvial 1% plus Central CC'!T94","v":0},{"$f":"'[1]Fluvial 1% plus HC_CC'!T94","v":0},{"$f":"'[1]Fluvial 1% plus UE_CC'!T94","v":0},{"$f":"'[1]RoFRS 1% + Central undef'!T94","v":0},{"$f":"'[1]RoFRS 0.1% + Central undef'!T94","v":0},{"$f":"'[1]RoFSW - High risk'!V94","v":0},{"$f":"'[1]RoFSW - Med risk'!T94","v":0},{"$f":"'[1]RoFSW - Low risk'!T94","v":0},0.57044874164502002,0.57044874164502102,0,0,0,0,1,0,"Green"]
["HO/25/00016","Land adjacent 72 Lower Road, Hextable","Housing",0.56000000000000005,{"$f":"'[1]Flood Map for Planning '!AB95","v":100},{"$f":"'[1]Flood Map for Planning '!T95","v":0},{"$f":"'[1]Flood Map for Planning '!V95","v":0},{"$f":"[1]FZ3b!Y95","v":0},{"$f":"'[1]Fluvial 1% plus Central CC'!T95","v":0},{"$f":"'[1]Fluvial 1% plus HC_CC'!T95","v":0},{"$f":"'[1]Fluvial 1% plus UE_CC'!T95","v":0},{"$f":"'[1]RoFRS 1% + Central undef'!T95","v":0},{"$f":"'[1]RoFRS 0.1% + Central undef'!T95","v":0},{"$f":"'[1]RoFSW - High risk'!V95","v":0},{"$f":"'[1]RoFSW - Med risk'!T95","v":0},{"$f":"'[1]RoFSW - Low risk'!T95","v":0},0,0,0,54.534561636877903,0,0,1,0,"Green"]
["HO/25/00018","Land north of Springfield Road, Edenbridge","Housing",0.15,{"$f":"'[1]Flood Map for Planning '!AB96","v":100},{"$f":"'[1]Flood Map for Planning '!T96","v":0},{"$f":"'[1]Flood Map for Planning '!V96","v":0},{"$f":"[1]FZ3b!Y96","v":0},{"$f":"'[1]Fluvial 1% plus Central CC'!T96","v":0},{"$f":"'[1]Fluvial 1% plus HC_CC'!T96","v":0},{"$f":"'[1]Fluvial 1% plus UE_CC'!T96","v":0},{"$f":"'[1]RoFRS 1% + Central undef'!T96","v":0},{"$f":"'[1]RoFRS 0.1% + Central undef'!T96","v":0},{"$f":"'[1]RoFSW - High risk'!V96","v":14.313609485938301},{"$f":"'[1]RoFSW - Med risk'!T96","v":24.370626208082001},{"$f":"'[1]RoFSW - Low risk'!T96","v":39.196934800869698},8.3806682362252296,9.2236538793714402,0,0,96.797387382462503,0,0,0,"Amber"]
["HO/25/00020","Land at Childsbridge Lane, Kemsing","Housing",2.4700000000000002,{"$f":"'[1]Flood Map for Planning '!AB97","v":100},{"$f":"'[1]Flood Map for Planning '!T97","v":0},{"$f":"'[1]Flood Map for Planning '!V97","v":0},{"$f":"[1]FZ3b!Y97","v":0},{"$f":"'[1]Fluvial 1% plus Central CC'!T97","v":0},{"$f":"'[1]Fluvial 1% plus HC_CC'!T97","v":0},{"$f":"'[1]Fluvial 1% plus UE_CC'!T97","v":0},{"$f":"'[1]RoFRS 1% + Central undef'!T97","v":0},{"$f":"'[1]RoFRS 0.1% + Central undef'!T97","v":0},{"$f":"'[1]RoFSW - High risk'!V97","v":0},{"$f":"'[1]RoFSW - Med risk'!T97","v":0.37269404716715498},{"$f":"'[1]RoFSW - Low risk'!T97","v":0.50333328983301795},2.5492273053079,2.6950304367283602,0,0,0,0,49,0,"Green"]
["HO/25/00021","Land east of Cedar Drive, Edenbridge","Housing",0.09,{"$f":"'[1]Flood Map for Planning '!AB98","v":100},{"$f":"'[1]Flood Map for Planning '!T98","v":0},{"$f":"'[1]Flood Map for Planning '!V98","v":0},{"$f":"[1]FZ3b!Y98","v":0},{"$f":"'[1]Fluvial 1% plus Central CC'!T98","v":0},{"$f":"'[1]Fluvial 1% plus HC_CC'!T98","v":0},{"$f":"'[1]Fluvial 1% plus UE_CC'!T98","v":0},{"$f":"'[1]RoFRS 1% + Central undef'!T98","v":0},{"$f":"'[1]RoFRS 0.1% + Central undef'!T98","v":0},{"$f":"'[1]RoFSW - High risk'!V98","v":0},{"$f":"'[1]RoFSW - Med risk'!T98","v":0},{"$f":"'[1]RoFSW - Low risk'!T98","v":39.981192427983103},0,8.37524777883322,0,0,0,0,3,0,"Green"]
["HO/25/00023","Land south of Parkside and Southdene, Halstead","Housing",0.15,{"$f":"'[1]Flood Map for Planning '!AB99","v":100},{"$f":"'[1]Flood Map for Planning '!T99","v":0},{"$f":"'[1]Flood Map for Planning '!V99","v":0},{"$f":"[1]FZ3b!Y99","v":0},{"$f":"'[1]Fluvial 1% plus Central CC'!T99","v":0},{"$f":"'[1]Fluvial 1% plus HC_CC'!T99","v":0},{"$f":"'[1]Fluvial 1% plus UE_CC'!T99","v":0},{"$f":"'[1]RoFRS 1% + Central undef'!T99","v":0},{"$f":"'[1]RoFRS 0.1% + Central undef'!T99","v":0},{"$f":"'[1]RoFSW - High risk'!V99","v":0},{"$f":"'[1]RoFSW - Med risk'!T99","v":0},{"$f":"'[1]RoFSW - Low risk'!T99","v":0},0,0,0,0.13720930151680899,0,0,4,0,"Green"]
["HO/25/00025","Land at 70 Lower Road, Hextable","Housing",0.41,{"$f":"'[1]Flood Map for Planning '!AB100","v":100},{"$f":"'[1]Flood Map for Planning '!T100","v":0},{"$f":"'[1]Flood Map for Planning '!V100","v":0},{"$f":"[1]FZ3b!Y100","v":0},{"$f":"'[1]Fluvial 1% plus Central CC'!T100","v":0},{"$f":"'[1]Fluvial 1% plus HC_CC'!T100","v":0},{"$f":"'[1]Fluvial 1% plus UE_CC'!T100","v":0},{"$f":"'[1]RoFRS 1% + Central undef'!T100","v":0},{"$f":"'[1]RoFRS 0.1% + Central undef'!T100","v":0},{"$f":"'[1]RoFSW - High risk'!V100","v":0},{"$f":"'[1]RoFSW - Med risk'!T100","v":0},{"$f":"'[1]RoFSW - Low risk'!T100","v":0},0,0,0,0,0,0,0,0,"Green"]
["HO/25/00028","Land at Brambledown and Wellfield, Hartley","Housing",0.97,{"$f":"'[1]Flood Map for Planning '!AB101","v":100},{"$f":"'[1]Flood Map for Planning '!T101","v":0},{"$f":"'[1]Flood Map for Planning '!V101","v":0},{"$f":"[1]FZ3b!Y101","v":0},{"$f":"'[1]Fluvial 1% plus Central CC'!T101","v":0},{"$f":"'[1]Fluvial 1% plus HC_CC'!T101","v":0},{"$f":"'[1]Fluvial 1% plus UE_CC'!T101","v":0},{"$f":"'[1]RoFRS 1% + Central undef'!T101","v":0},{"$f":"'[1]RoFRS 0.1% + Central undef'!T101","v":0},{"$f":"'[1]RoFSW - High risk'!V101","v":0},{"$f":"'[1]RoFSW - Med risk'!T101","v":0},{"$f":"'[1]RoFSW - Low risk'!T101","v":0},0,0,0,0,0,0,6,0,"Green"]
["HO/25/00033","Land to the west of Childsbridge Lane, Kemsing","Housing",6.9,{"$f":"'[1]Flood Map for Planning '!AB102","v":100},{"$f":"'[1]Flood Map for Planning '!T102","v":0},{"$f":"'[1]Flood Map for Planning '!V102","v":0},{"$f":"[1]FZ3b!Y102","v":0},{"$f":"'[1]Fluvial 1% plus Central CC'!T102","v":0},{"$f":"'[1]Fluvial 1% plus HC_CC'!T102","v":0},{"$f":"'[1]Fluvial 1% plus UE_CC'!T102","v":0},{"$f":"'[1]RoFRS 1% + Central undef'!T102","v":0},{"$f":"'[1]RoFRS 0.1% + Central undef'!T102","v":0},{"$f":"'[1]RoFSW - High risk'!V102","v":0.23353628109184199},{"$f":"'[1]RoFSW - Med risk'!T102","v":1.5286011601190801},{"$f":"'[1]RoFSW - Low risk'!T102","v":6.4497159227594096},9.8814050719184401,9.9509493309407198,0,0,0,0,8,0,"Green"]
["HO/25/00036","Media House, Azalea Drive, Swanley","Housing",0.38,{"$f":"'[1]Flood Map for Planning '!AB103","v":100},{"$f":"'[1]Flood Map for Planning '!T103","v":0},{"$f":"'[1]Flood Map for Planning '!V103","v":0},{"$f":"[1]FZ3b!Y103","v":0},{"$f":"'[1]Fluvial 1% plus Central CC'!T103","v":0},{"$f":"'[1]Fluvial 1% plus HC_CC'!T103","v":0},{"$f":"'[1]Fluvial 1% plus UE_CC'!T103","v":0},{"$f":"'[1]RoFRS 1% + Central undef'!T103","v":0},{"$f":"'[1]RoFRS 0.1% + Central undef'!T103","v":0},{"$f":"'[1]RoFSW - High risk'!V103","v":0},{"$f":"'[1]RoFSW - Med risk'!T103","v":0},{"$f":"'[1]RoFSW - Low risk'!T103","v":0},0,0.81521584863511898,0,0,0,0,7,0,"Green"]
["HO/25/00038","Land to the rear of Stanholm, Mill Hill, Edenbridge","Housing",0.35,{"$f":"'[1]Flood Map for Planning '!AB104","v":100},{"$f":"'[1]Flood Map for Planning '!T104","v":0},{"$f":"'[1]Flood Map for Planning '!V104","v":0},{"$f":"[1]FZ3b!Y104","v":0},{"$f":"'[1]Fluvial 1% plus Central CC'!T104","v":0},{"$f":"'[1]Fluvial 1% plus HC_CC'!T104","v":0},{"$f":"'[1]Fluvial 1% plus UE_CC'!T104","v":0},{"$f":"'[1]RoFRS 1% + Central undef'!T104","v":0},{"$f":"'[1]RoFRS 0.1% + Central undef'!T104","v":0},{"$f":"'[1]RoFSW - High risk'!V104","v":0},{"$f":"'[1]RoFSW - Med risk'!T104","v":0},{"$f":"'[1]RoFSW - Low risk'!T104","v":0},0.28896815877208698,0.28896815877208698,0,0,0,0,3,0,"Green"]
["HO/25/00042","Land west of Brittains Lane, Sevenoaks","Housing",7.3,{"$f":"'[1]Flood Map for Planning '!AB105","v":86.892273968665734},{"$f":"'[1]Flood Map for Planning '!T105","v":2.28848827382396},{"$f":"'[1]Flood Map for Planning '!V105","v":10.819237757510299},{"$f":"[1]FZ3b!Y105","v":9.6007759418560106},{"$f":"'[1]Fluvial 1% plus Central CC'!T105","v":0},{"$f":"'[1]Fluvial 1% plus HC_CC'!T105","v":0},{"$f":"'[1]Fluvial 1% plus UE_CC'!T105","v":0},{"$f":"'[1]RoFRS 1% + Central undef'!T105","v":11.4280117748087},{"$f":"'[1]RoFRS 0.1% + Central undef'!T105","v":13.4599730015902},{"$f":"'[1]RoFSW - High risk'!V105","v":0},{"$f":"'[1]RoFSW - Med risk'!T105","v":0.14793182281321601},{"$f":"'[1]RoFSW - Low risk'!T105","v":3.0197964838207101},15.839498971732199,18.7466865393185,0,0,0,0,7,0,"Red"]
["HO/25/00049","Melsetta, Church Road, Hartley","Housing",0.38,{"$f":"'[1]Flood Map for Planning '!AB106","v":100},{"$f":"'[1]Flood Map for Planning '!T106","v":0},{"$f":"'[1]Flood Map for Planning '!V106","v":0},{"$f":"[1]FZ3b!Y106","v":0},{"$f":"'[1]Fluvial 1% plus Central CC'!T106","v":0},{"$f":"'[1]Fluvial 1% plus HC_CC'!T106","v":0},{"$f":"'[1]Fluvial 1% plus UE_CC'!T106","v":0},{"$f":"'[1]RoFRS 1% + Central undef'!T106","v":0},{"$f":"'[1]RoFRS 0.1% + Central undef'!T106","v":0},{"$f":"'[1]RoFSW - High risk'!V106","v":0},{"$f":"'[1]RoFSW - Med risk'!T106","v":0},{"$f":"'[1]RoFSW - Low risk'!T106","v":0},0,0,0,0,0,0,3,0,"Green"]
["HO/25/00058","Helipad Site, Crow Drive, Fort Halstead","Housing",0.86,{"$f":"'[1]Flood Map for Planning '!AB107","v":100},{"$f":"'[1]Flood Map for Planning '!T107","v":0},{"$f":"'[1]Flood Map for Planning '!V107","v":0},{"$f":"[1]FZ3b!Y107","v":0},{"$f":"'[1]Fluvial 1% plus Central CC'!T107","v":0},{"$f":"'[1]Fluvial 1% plus HC_CC'!T107","v":0},{"$f":"'[1]Fluvial 1% plus UE_CC'!T107","v":0},{"$f":"'[1]RoFRS 1% + Central undef'!T107","v":0},{"$f":"'[1]RoFRS 0.1% + Central undef'!T107","v":0},{"$f":"'[1]RoFSW - High risk'!V107","v":0},{"$f":"'[1]RoFSW - Med risk'!T107","v":0},{"$f":"'[1]RoFSW - Low risk'!T107","v":0},0,0,0,0,0,0,0,0,"Green"]
["HO/25/00060","Beaumont, Otford Lane, Halstead","Housing",4.97,{"$f":"'[1]Flood Map for Planning '!AB108","v":100},{"$f":"'[1]Flood Map for Planning '!T108","v":0},{"$f":"'[1]Flood Map for Planning '!V108","v":0},{"$f":"[1]FZ3b!Y108","v":0},{"$f":"'[1]Fluvial 1% plus Central CC'!T108","v":0},{"$f":"'[1]Fluvial 1% plus HC_CC'!T108","v":0},{"$f":"'[1]Fluvial 1% plus UE_CC'!T108","v":0},{"$f":"'[1]RoFRS 1% + Central undef'!T108","v":0},{"$f":"'[1]RoFRS 0.1% + Central undef'!T108","v":0},{"$f":"'[1]RoFSW - High risk'!V108","v":0.16595109221110299},{"$f":"'[1]RoFSW - Med risk'!T108","v":0.45304564578703999},{"$f":"'[1]RoFSW - Low risk'!T108","v":3.9240227706892501},4.1929298617139399E-2,0.25914754331373502,0,0,0,0,0,0,"Green"]
["HO/25/00063/B","Land adjacent to Little Mote, High Street, Eynsford","Housing",0.13,{"$f":"'[1]Flood Map for Planning '!AB109","v":100},{"$f":"'[1]Flood Map for Planning '!T109","v":0},{"$f":"'[1]Flood Map for Planning '!V109","v":0},{"$f":"[1]FZ3b!Y109","v":0},{"$f":"'[1]Fluvial 1% plus Central CC'!T109","v":0},{"$f":"'[1]Fluvial 1% plus HC_CC'!T109","v":0},{"$f":"'[1]Fluvial 1% plus UE_CC'!T109","v":0},{"$f":"'[1]RoFRS 1% + Central undef'!T109","v":0},{"$f":"'[1]RoFRS 0.1% + Central undef'!T109","v":0},{"$f":"'[1]RoFSW - High risk'!V109","v":0},{"$f":"'[1]RoFSW - Med risk'!T109","v":0},{"$f":"'[1]RoFSW - Low risk'!T109","v":0},2.8992544905476599E-2,2.8992544905477001E-2,0,3.61700514433111,0,0,5,0,"Green"]
["HO/21/00231/B","Land at London Road, West Kingsdown","Housing",10.76,{"$f":"'[1]Flood Map for Planning '!AB110","v":100},{"$f":"'[1]Flood Map for Planning '!T110","v":0},{"$f":"'[1]Flood Map for Planning '!V110","v":0},{"$f":"[1]FZ3b!Y110","v":0},{"$f":"'[1]Fluvial 1% plus Central CC'!T110","v":0},{"$f":"'[1]Fluvial 1% plus HC_CC'!T110","v":0},{"$f":"'[1]Fluvial 1% plus UE_CC'!T110","v":0},{"$f":"'[1]RoFRS 1% + Central undef'!T110","v":0},{"$f":"'[1]RoFRS 0.1% + Central undef'!T110","v":0},{"$f":"'[1]RoFSW - High risk'!V110","v":2.31940913783238},{"$f":"'[1]RoFSW - Med risk'!T110","v":2.6920111068637702},{"$f":"'[1]RoFSW - Low risk'!T110","v":5.3945272010375103},11.068048667923801,12.7501514244112,0,0,0,0,17,0,"Green"]
["HO/21/00023/B","Land west of Beaumont Yard, Crow Drive, Halstead","Housing",0.78,{"$f":"'[1]Flood Map for Planning '!AB111","v":100},{"$f":"'[1]Flood Map for Planning '!T111","v":0},{"$f":"'[1]Flood Map for Planning '!V111","v":0},{"$f":"[1]FZ3b!Y111","v":0},{"$f":"'[1]Fluvial 1% plus Central CC'!T111","v":0},{"$f":"'[1]Fluvial 1% plus HC_CC'!T111","v":0},{"$f":"'[1]Fluvial 1% plus UE_CC'!T111","v":0},{"$f":"'[1]RoFRS 1% + Central undef'!T111","v":0},{"$f":"'[1]RoFRS 0.1% + Central undef'!T111","v":0},{"$f":"'[1]RoFSW - High risk'!V111","v":0},{"$f":"'[1]RoFSW - Med risk'!T111","v":0},{"$f":"'[1]RoFSW - Low risk'!T111","v":0},0,0,0,0,0,0,0,0,"Green"]
["HO/21/00275/B","Former Oasis Academy, 37 Egerton Avenue, Hextable","Housing",3.56,{"$f":"'[1]Flood Map for Planning '!AB112","v":100},{"$f":"'[1]Flood Map for Planning '!T112","v":0},{"$f":"'[1]Flood Map for Planning '!V112","v":0},{"$f":"[1]FZ3b!Y112","v":0},{"$f":"'[1]Fluvial 1% plus Central CC'!T112","v":0},{"$f":"'[1]Fluvial 1% plus HC_CC'!T112","v":0},{"$f":"'[1]Fluvial 1% plus UE_CC'!T112","v":0},{"$f":"'[1]RoFRS 1% + Central undef'!T112","v":0},{"$f":"'[1]RoFRS 0.1% + Central undef'!T112","v":0},{"$f":"'[1]RoFSW - High risk'!V112","v":1.3006299969042501},{"$f":"'[1]RoFSW - Med risk'!T112","v":2.0461801000773301},{"$f":"'[1]RoFSW - Low risk'!T112","v":12.730088929175899},6.0685732154463299,7.2939674949462203,0,0,0,0,6,0,"Green"]
["HO/21/00253/B","Stanhill Farm, north west of Hextable, Puddledock Lane, Hextable","Housing",16.579999999999998,{"$f":"'[1]Flood Map for Planning '!AB113","v":100},{"$f":"'[1]Flood Map for Planning '!T113","v":0},{"$f":"'[1]Flood Map for Planning '!V113","v":0},{"$f":"[1]FZ3b!Y113","v":0},{"$f":"'[1]Fluvial 1% plus Central CC'!T113","v":0},{"$f":"'[1]Fluvial 1% plus HC_CC'!T113","v":0},{"$f":"'[1]Fluvial 1% plus UE_CC'!T113","v":0},{"$f":"'[1]RoFRS 1% + Central undef'!T113","v":0},{"$f":"'[1]RoFRS 0.1% + Central undef'!T113","v":0},{"$f":"'[1]RoFSW - High risk'!V113","v":0.25337401730318099},{"$f":"'[1]RoFSW - Med risk'!T113","v":0.55742249937088995},{"$f":"'[1]RoFSW - Low risk'!T113","v":1.9365675859639999},0,0.10858871534818,0,0,0,0,2,0,"Green"]
["H2(a)","Delivery & Post Office / BT Exchange, South Park","Mixed Use",0.63,{"$f":"'[1]Flood Map for Planning '!AB114","v":100},{"$f":"'[1]Flood Map for Planning '!T114","v":0},{"$f":"'[1]Flood Map for Planning '!V114","v":0},{"$f":"[1]FZ3b!Y114","v":0},{"$f":"'[1]Fluvial 1% plus Central CC'!T114","v":0},{"$f":"'[1]Fluvial 1% plus HC_CC'!T114","v":0},{"$f":"'[1]Fluvial 1% plus UE_CC'!T114","v":0},{"$f":"'[1]RoFRS 1% + Central undef'!T114","v":0},{"$f":"'[1]RoFRS 0.1% + Central undef'!T114","v":0},{"$f":"'[1]RoFSW - High risk'!V114","v":2.96215354739864},{"$f":"'[1]RoFSW - Med risk'!T114","v":3.4663499599916299},{"$f":"'[1]RoFSW - Low risk'!T114","v":3.5923990608175398},1.8907363212284301,1.9537608765153001,0,0,0,0,7,0,"Green"]
["H2(c)","Swanley Centre","Mixed Use",2.63,{"$f":"'[1]Flood Map for Planning '!AB115","v":100},{"$f":"'[1]Flood Map for Planning '!T115","v":0},{"$f":"'[1]Flood Map for Planning '!V115","v":0},{"$f":"[1]FZ3b!Y115","v":0},{"$f":"'[1]Fluvial 1% plus Central CC'!T115","v":0},{"$f":"'[1]Fluvial 1% plus HC_CC'!T115","v":0},{"$f":"'[1]Fluvial 1% plus UE_CC'!T115","v":0},{"$f":"'[1]RoFRS 1% + Central undef'!T115","v":0},{"$f":"'[1]RoFRS 0.1% + Central undef'!T115","v":0},{"$f":"'[1]RoFSW - High risk'!V115","v":1.5353543699659},{"$f":"'[1]RoFSW - Med risk'!T115","v":4.4388460375910102},{"$f":"'[1]RoFSW - Low risk'!T115","v":6.3390373890577303},7.28537401982053E-2,0,0,0,0,0,10,0,"Green"]
["H2(e)","New Ash Green Village Centre","Mixed Use",3.06,{"$f":"'[1]Flood Map for Planning '!AB116","v":100},{"$f":"'[1]Flood Map for Planning '!T116","v":0},{"$f":"'[1]Flood Map for Planning '!V116","v":0},{"$f":"[1]FZ3b!Y116","v":0},{"$f":"'[1]Fluvial 1% plus Central CC'!T116","v":0},{"$f":"'[1]Fluvial 1% plus HC_CC'!T116","v":0},{"$f":"'[1]Fluvial 1% plus UE_CC'!T116","v":0},{"$f":"'[1]RoFRS 1% + Central undef'!T116","v":0},{"$f":"'[1]RoFRS 0.1% + Central undef'!T116","v":0},{"$f":"'[1]RoFSW - High risk'!V116","v":1.07165923998559},{"$f":"'[1]RoFSW - Med risk'!T116","v":2.44467407928658},{"$f":"'[1]RoFSW - Low risk'!T116","v":5.1756739359263104},8.8587388631061401,9.6196455224049409,0,0,0,0,34,0,"Green"]
["MX/21/00010","The White House, Brasted","Mixed Use",0.16,{"$f":"'[1]Flood Map for Planning '!AB117","v":99.468454814576347},{"$f":"'[1]Flood Map for Planning '!T117","v":0.53154518542365503},{"$f":"'[1]Flood Map for Planning '!V117","v":0},{"$f":"[1]FZ3b!Y117","v":0},{"$f":"'[1]Fluvial 1% plus Central CC'!T117","v":0},{"$f":"'[1]Fluvial 1% plus HC_CC'!T117","v":0},{"$f":"'[1]Fluvial 1% plus UE_CC'!T117","v":0},{"$f":"'[1]RoFRS 1% + Central undef'!T117","v":0},{"$f":"'[1]RoFRS 0.1% + Central undef'!T117","v":0.53154518542365503},{"$f":"'[1]RoFSW - High risk'!V117","v":0},{"$f":"'[1]RoFSW - Med risk'!T117","v":0},{"$f":"'[1]RoFSW - Low risk'!T117","v":0},0,0,0,0,0,0,11,0,"Green"]
["MX/21/00013","Land at Horton Road, South Darenth","Mixed Use",8.19,{"$f":"'[1]Flood Map for Planning '!AB118","v":99.948222392673074},{"$f":"'[1]Flood Map for Planning '!T118","v":5.1777607326923998E-2},{"$f":"'[1]Flood Map for Planning '!V118","v":0},{"$f":"[1]FZ3b!Y118","v":0},{"$f":"'[1]Fluvial 1% plus Central CC'!T118","v":0},{"$f":"'[1]Fluvial 1% plus HC_CC'!T118","v":0},{"$f":"'[1]Fluvial 1% plus UE_CC'!T118","v":0},{"$f":"'[1]RoFRS 1% + Central undef'!T118","v":0},{"$f":"'[1]RoFRS 0.1% + Central undef'!T118","v":0.181592975277618},{"$f":"'[1]RoFSW - High risk'!V118","v":0.15628337928677699},{"$f":"'[1]RoFSW - Med risk'!T118","v":0.39306471798228698},{"$f":"'[1]RoFSW - Low risk'!T118","v":4.8893074575157502},0.94871074534955602,4.26862060337724,0,0,0,0,18,0,"Green"]
["MX/21/00039","109-119 St Johns Hill, Sevenoaks","Mixed Use",0.11,{"$f":"'[1]Flood Map for Planning '!AB119","v":100},{"$f":"'[1]Flood Map for Planning '!T119","v":0},{"$f":"'[1]Flood Map for Planning '!V119","v":0},{"$f":"[1]FZ3b!Y119","v":0},{"$f":"'[1]Fluvial 1% plus Central CC'!T119","v":0},{"$f":"'[1]Fluvial 1% plus HC_CC'!T119","v":0},{"$f":"'[1]Fluvial 1% plus UE_CC'!T119","v":0},{"$f":"'[1]RoFRS 1% + Central undef'!T119","v":0},{"$f":"'[1]RoFRS 0.1% + Central undef'!T119","v":0},{"$f":"'[1]RoFSW - High risk'!V119","v":0},{"$f":"'[1]RoFSW - Med risk'!T119","v":13.527178966726501},{"$f":"'[1]RoFSW - Low risk'!T119","v":33.053036461989699},43.4004370367185,45.887574352622899,0,0,0,0,10,0,"Amber"]
["MX/21/00046","Land at West End, Kemsing","Mixed Use",7.76,{"$f":"'[1]Flood Map for Planning '!AB120","v":100},{"$f":"'[1]Flood Map for Planning '!T120","v":0},{"$f":"'[1]Flood Map for Planning '!V120","v":0},{"$f":"[1]FZ3b!Y120","v":0},{"$f":"'[1]Fluvial 1% plus Central CC'!T120","v":0},{"$f":"'[1]Fluvial 1% plus HC_CC'!T120","v":0},{"$f":"'[1]Fluvial 1% plus UE_CC'!T120","v":0},{"$f":"'[1]RoFRS 1% + Central undef'!T120","v":0},{"$f":"'[1]RoFRS 0.1% + Central undef'!T120","v":0},{"$f":"'[1]RoFSW - High risk'!V120","v":0},{"$f":"'[1]RoFSW - Med risk'!T120","v":0},{"$f":"'[1]RoFSW - Low risk'!T120","v":0.67220594869663397},1.4065034960696701,2.2420062563509999,0,0,0,0,6,0,"Green"]
["MX/21/00036","Sevenoaks Station and Car Park, Morewood Close","Mixed Use",3.68,{"$f":"'[1]Flood Map for Planning '!AB121","v":100},{"$f":"'[1]Flood Map for Planning '!T121","v":0},{"$f":"'[1]Flood Map for Planning '!V121","v":0},{"$f":"[1]FZ3b!Y121","v":0},{"$f":"'[1]Fluvial 1% plus Central CC'!T121","v":0},{"$f":"'[1]Fluvial 1% plus HC_CC'!T121","v":0},{"$f":"'[1]Fluvial 1% plus UE_CC'!T121","v":0},{"$f":"'[1]RoFRS 1% + Central undef'!T121","v":0},{"$f":"'[1]RoFRS 0.1% + Central undef'!T121","v":0},{"$f":"'[1]RoFSW - High risk'!V121","v":10.4359931832344},{"$f":"'[1]RoFSW - Med risk'!T121","v":19.577185194902398},{"$f":"'[1]RoFSW - Low risk'!T121","v":33.381866219392897},47.021111278320497,47.302193394584499,0,0,0,0,37,0,"Amber"]
["MX/21/00027","Land north and south of Maidstone Road, Swanley","Mixed Use",14.26,{"$f":"'[1]Flood Map for Planning '!AB122","v":100},{"$f":"'[1]Flood Map for Planning '!T122","v":0},{"$f":"'[1]Flood Map for Planning '!V122","v":0},{"$f":"[1]FZ3b!Y122","v":0},{"$f":"'[1]Fluvial 1% plus Central CC'!T122","v":0},{"$f":"'[1]Fluvial 1% plus HC_CC'!T122","v":0},{"$f":"'[1]Fluvial 1% plus UE_CC'!T122","v":0},{"$f":"'[1]RoFRS 1% + Central undef'!T122","v":0},{"$f":"'[1]RoFRS 0.1% + Central undef'!T122","v":0},{"$f":"'[1]RoFSW - High risk'!V122","v":3.48480752532766},{"$f":"'[1]RoFSW - Med risk'!T122","v":5.1866626876355699},{"$f":"'[1]RoFSW - Low risk'!T122","v":8.6598188222932695},4.5868340096065898,6.2503884596498196,0,0,0,0,11,0,"Green"]
["MX/21/00023","Bakers Yard, Otford Road, Sevenoaks","Mixed Use",2.0499999999999998,{"$f":"'[1]Flood Map for Planning '!AB123","v":100},{"$f":"'[1]Flood Map for Planning '!T123","v":0},{"$f":"'[1]Flood Map for Planning '!V123","v":0},{"$f":"[1]FZ3b!Y123","v":0},{"$f":"'[1]Fluvial 1% plus Central CC'!T123","v":0},{"$f":"'[1]Fluvial 1% plus HC_CC'!T123","v":0},{"$f":"'[1]Fluvial 1% plus UE_CC'!T123","v":0},{"$f":"'[1]RoFRS 1% + Central undef'!T123","v":0},{"$f":"'[1]RoFRS 0.1% + Central undef'!T123","v":0},{"$f":"'[1]RoFSW - High risk'!V123","v":0.65836667323487996},{"$f":"'[1]RoFSW - Med risk'!T123","v":1.54797909013932},{"$f":"'[1]RoFSW - Low risk'!T123","v":3.0669387065790499},1.6206343288955101,1.96285587652627,0,0,0,0,33,6.0940546434264702,"Green"]
["MX/21/00001","Edenbridge War Memorial Hospital","Mixed Use",1.06,{"$f":"'[1]Flood Map for Planning '!AB124","v":100},{"$f":"'[1]Flood Map for Planning '!T124","v":0},{"$f":"'[1]Flood Map for Planning '!V124","v":0},{"$f":"[1]FZ3b!Y124","v":0},{"$f":"'[1]Fluvial 1% plus Central CC'!T124","v":0},{"$f":"'[1]Fluvial 1% plus HC_CC'!T124","v":0},{"$f":"'[1]Fluvial 1% plus UE_CC'!T124","v":0},{"$f":"'[1]RoFRS 1% + Central undef'!T124","v":0},{"$f":"'[1]RoFRS 0.1% + Central undef'!T124","v":0},{"$f":"'[1]RoFSW - High risk'!V124","v":0},{"$f":"'[1]RoFSW - Med risk'!T124","v":1.1723650395577601},{"$f":"'[1]RoFSW - Low risk'!T124","v":5.0766163972792304},0,0,0,0,0,0,10,0,"Green"]
["MX/21/00044","Land at Pedham Place","Mixed Use",141.22999999999999,{"$f":"'[1]Flood Map for Planning '!AB125","v":100},{"$f":"'[1]Flood Map for Planning '!T125","v":0},{"$f":"'[1]Flood Map for Planning '!V125","v":0},{"$f":"[1]FZ3b!Y125","v":0},{"$f":"'[1]Fluvial 1% plus Central CC'!T125","v":0},{"$f":"'[1]Fluvial 1% plus HC_CC'!T125","v":0},{"$f":"'[1]Fluvial 1% plus UE_CC'!T125","v":0},{"$f":"'[1]RoFRS 1% + Central undef'!T125","v":0},{"$f":"'[1]RoFRS 0.1% + Central undef'!T125","v":0},{"$f":"'[1]RoFSW - High risk'!V125","v":0.28104290160358703},{"$f":"'[1]RoFSW - Med risk'!T125","v":0.76547354179391103},{"$f":"'[1]RoFSW - Low risk'!T125","v":2.5851097629542199},0.100763174732126,0.76821646090738904,0,0,0,0,7,0,"Green"]
["MX/21/00049","Land east of High Street, Sevenoaks","Mixed Use",3.05,{"$f":"'[1]Flood Map for Planning '!AB126","v":100},{"$f":"'[1]Flood Map for Planning '!T126","v":0},{"$f":"'[1]Flood Map for Planning '!V126","v":0},{"$f":"[1]FZ3b!Y126","v":0},{"$f":"'[1]Fluvial 1% plus Central CC'!T126","v":0},{"$f":"'[1]Fluvial 1% plus HC_CC'!T126","v":0},{"$f":"'[1]Fluvial 1% plus UE_CC'!T126","v":0},{"$f":"'[1]RoFRS 1% + Central undef'!T126","v":0},{"$f":"'[1]RoFRS 0.1% + Central undef'!T126","v":0},{"$f":"'[1]RoFSW - High risk'!V126","v":4.7522004390424097},{"$f":"'[1]RoFSW - Med risk'!T126","v":6.1045140047666804},{"$f":"'[1]RoFSW - Low risk'!T126","v":10.414667927647599},12.508715522371499,12.8873200534074,0,0,0,0,30,0,"Green"]
["MX/21/00041","Land South of Redhill Road, New Ash Green","Mixed Use",47.1,{"$f":"'[1]Flood Map for Planning '!AB127","v":100},{"$f":"'[1]Flood Map for Planning '!T127","v":0},{"$f":"'[1]Flood Map for Planning '!V127","v":0},{"$f":"[1]FZ3b!Y127","v":0},{"$f":"'[1]Fluvial 1% plus Central CC'!T127","v":0},{"$f":"'[1]Fluvial 1% plus HC_CC'!T127","v":0},{"$f":"'[1]Fluvial 1% plus UE_CC'!T127","v":0},{"$f":"'[1]RoFRS 1% + Central undef'!T127","v":0},{"$f":"'[1]RoFRS 0.1% + Central undef'!T127","v":0},{"$f":"'[1]RoFSW - High risk'!V127","v":0.46514897978069603},{"$f":"'[1]RoFSW - Med risk'!T127","v":0.61838318007036097},{"$f":"'[1]RoFSW - Low risk'!T127","v":0.91523643390996201},0.27286227962778697,0.76129011652221401,0,0,0,0,21,0,"Green"]
["MX/21/00051","Land east of Mead Road, Edenbridge","Mixed Use",6.8,{"$f":"'[1]Flood Map for Planning '!AB128","v":100},{"$f":"'[1]Flood Map for Planning '!T128","v":0},{"$f":"'[1]Flood Map for Planning '!V128","v":0},{"$f":"[1]FZ3b!Y128","v":0},{"$f":"'[1]Fluvial 1% plus Central CC'!T128","v":0},{"$f":"'[1]Fluvial 1% plus HC_CC'!T128","v":0},{"$f":"'[1]Fluvial 1% plus UE_CC'!T128","v":0},{"$f":"'[1]RoFRS 1% + Central undef'!T128","v":0},{"$f":"'[1]RoFRS 0.1% + Central undef'!T128","v":0},{"$f":"'[1]RoFSW - High risk'!V128","v":1.64008238994963},{"$f":"'[1]RoFSW - Med risk'!T128","v":1.7935320443957701},{"$f":"'[1]RoFSW - Low risk'!T128","v":2.7411697722468},2.1357493224975301,2.3586324307892901,0,0,0,0,20,0,"Green"]
["MX/21/00014","78-80 and 82-84 High Street, Leathermarket, Edenbridge","Mixed Use",0.28999999999999998,{"$f":"'[1]Flood Map for Planning '!AB129","v":-1.0648262076529136E-6},{"$f":"'[1]Flood Map for Planning '!T129","v":76.700609385821906},{"$f":"'[1]Flood Map for Planning '!V129","v":23.299391679004302},{"$f":"[1]FZ3b!Y129","v":0},{"$f":"'[1]Fluvial 1% plus Central CC'!T129","v":65.261096326609703},{"$f":"'[1]Fluvial 1% plus HC_CC'!T129","v":80.359133354934499},{"$f":"'[1]Fluvial 1% plus UE_CC'!T129","v":96.886963028109903},{"$f":"'[1]RoFRS 1% + Central undef'!T129","v":77.165535084657193},{"$f":"'[1]RoFRS 0.1% + Central undef'!T129","v":100},{"$f":"'[1]RoFSW - High risk'!V129","v":0.50461833570327397},{"$f":"'[1]RoFSW - Med risk'!T129","v":1.61576082691186},{"$f":"'[1]RoFSW - Low risk'!T129","v":14.347310872587499},0.59215066750576595,0.65059758551688696,0,0,0,100,18,100,"Red"]
["MX/21/00009","Land at Breezehurst Farm, Crouch House Road","Mixed Use",17.93,{"$f":"'[1]Flood Map for Planning '!AB130","v":88.397264275885362},{"$f":"'[1]Flood Map for Planning '!T130","v":2.23699966191568},{"$f":"'[1]Flood Map for Planning '!V130","v":9.3657360621989607},{"$f":"[1]FZ3b!Y130","v":8.2326233902652906},{"$f":"'[1]Fluvial 1% plus Central CC'!T130","v":0},{"$f":"'[1]Fluvial 1% plus HC_CC'!T130","v":0},{"$f":"'[1]Fluvial 1% plus UE_CC'!T130","v":0},{"$f":"'[1]RoFRS 1% + Central undef'!T130","v":11.6005045260474},{"$f":"'[1]RoFRS 0.1% + Central undef'!T130","v":11.6736575121285},{"$f":"'[1]RoFSW - High risk'!V130","v":3.2919144724878802},{"$f":"'[1]RoFSW - Med risk'!T130","v":6.7586533822960604},{"$f":"'[1]RoFSW - Low risk'!T130","v":15.888768145543199},13.9657111756435,14.5868956448303,0,0,0,0,7,12.181930440132099,"Red"]
["MX/24/00002","Land at Swan Lane, Edenbridge (wider site)","Mixed Use",41.91,{"$f":"'[1]Flood Map for Planning '!AB131","v":92.811300144001791},{"$f":"'[1]Flood Map for Planning '!T131","v":0.95349558248794297},{"$f":"'[1]Flood Map for Planning '!V131","v":6.2352042735102602},{"$f":"[1]FZ3b!Y131","v":4.5824764656134596},{"$f":"'[1]Fluvial 1% plus Central CC'!T131","v":0},{"$f":"'[1]Fluvial 1% plus HC_CC'!T131","v":0},{"$f":"'[1]Fluvial 1% plus UE_CC'!T131","v":0},{"$f":"'[1]RoFRS 1% + Central undef'!T131","v":5.84672001001287},{"$f":"'[1]RoFRS 0.1% + Central undef'!T131","v":6.6595382345145202},{"$f":"'[1]RoFSW - High risk'!V131","v":4.6428682973549904},{"$f":"'[1]RoFSW - Med risk'!T131","v":7.5380314133981301},{"$f":"'[1]RoFSW - Low risk'!T131","v":12.715158892563799},11.592830946736701,12.0370779779696,0,0,0,0,21,15.0100803291923,"Red"]
["MX/21/00042","Parkwood Hall Co-operative Academy, Beechenlea Lane, Swanley","Mixed Use",13.82,{"$f":"'[1]Flood Map for Planning '!AB132","v":100},{"$f":"'[1]Flood Map for Planning '!T132","v":0},{"$f":"'[1]Flood Map for Planning '!V132","v":0},{"$f":"[1]FZ3b!Y132","v":0},{"$f":"'[1]Fluvial 1% plus Central CC'!T132","v":0},{"$f":"'[1]Fluvial 1% plus HC_CC'!T132","v":0},{"$f":"'[1]Fluvial 1% plus UE_CC'!T132","v":0},{"$f":"'[1]RoFRS 1% + Central undef'!T132","v":0},{"$f":"'[1]RoFRS 0.1% + Central undef'!T132","v":0},{"$f":"'[1]RoFSW - High risk'!V132","v":0.31975022714206602},{"$f":"'[1]RoFSW - Med risk'!T132","v":0.40316966420170502},{"$f":"'[1]RoFSW - Low risk'!T132","v":1.60177081273844},0.28701114267609301,0.38869668785434502,0,0,0,0,0,0,"Green"]
["MX/25/00011","Land north of Moultain Hill, Swanley","Mixed Use",19.78,{"$f":"'[1]Flood Map for Planning '!AB133","v":100},{"$f":"'[1]Flood Map for Planning '!T133","v":0},{"$f":"'[1]Flood Map for Planning '!V133","v":0},{"$f":"[1]FZ3b!Y133","v":0},{"$f":"'[1]Fluvial 1% plus Central CC'!T133","v":0},{"$f":"'[1]Fluvial 1% plus HC_CC'!T133","v":0},{"$f":"'[1]Fluvial 1% plus UE_CC'!T133","v":0},{"$f":"'[1]RoFRS 1% + Central undef'!T133","v":0},{"$f":"'[1]RoFRS 0.1% + Central undef'!T133","v":0},{"$f":"'[1]RoFSW - High risk'!V133","v":0},{"$f":"'[1]RoFSW - Med risk'!T133","v":6.0677700754473998E-2},{"$f":"'[1]RoFSW - Low risk'!T133","v":0.682932210665537},0.25903302923560001,0.48711571066928,0,0,0,0,18,0,"Green"]

{"sheet":"FZ Calculations","index":2,"n_rows":133,"n_cols":19,"rows_kept":133,"cut":false,"hidden":false,"merged":[]}
[null,"Location","Site Code","Site (ha)","FZ3b (ha)","FZ3b (%)_TOTAL","FZ3b (%) acc","FZ3a (ha)","FZ3a","FZ3a (%)_(MINUS FZ3b)","FZ3a (%)_TOTAL","FZ3a (%) acc","FZ2 (ha)","FZ2%","FZ2 (%)_(MINUS FZ3)","FZ2 (%)_TOTAL","FZ2 (%) acc","FZ1 (%)","FZ1 (%) acc"]
[null,"Lower Daltons Nursery, Swanley Village","EM/21/00003",0.77]
[null,"Elliott's Farm, Penshurst, TN11 8BG","EM/21/00006",0.13]
[null,"Chelsfield Depot, Shackfields Road, Badgers Mount","EM/21/00008",4.8499999999999996]
[null,"Otford Road Depot, Otford Road","EM/21/00015",0.75]
[null,"Land at Bartram Farm and adjacent to Vestry Estate","EM/21/00007",1.33]
[null,"Beechcroft Farm Industries, Chapel Wood Road, Ash","EM/21/00013",4.08]
[null,"Land at Upper Hockenden Farm, Maidstone Road, Swanley","EM/21/00010",2.31]
[null,"Land at old Otford Road and Vestry Trading Estate","EM/25/00001",6.69]
[null,"Kings Lodge, London Road, West Kingsdown","EM/25/00003",0.27]
[null,"Petham Court Farm (west of M25)","EM/24/00001",32.659999999999997]
[null,"Seven Acres Farm","GT/21/00001",2.5299999999999998]
[null,"Station Court, Knockholt Road","GT/21/00004",0.42]
[null,"Park Lane Farm, Park Lane, Swanley Village","GT/24/00001",0.62]
[null,"Bevan Place","H1(g)",0.46]
[null,"Bus Garage, Kingdom Hall","H1(h)",0.74]
[null,"Currant Hill Allotments, Westerham","H1(m)",0.64]
[null,"Gulf Petrol Station off London Road","SsM04",0.1]
[null,"Whiteoak Garage off London Road","SsM06",0.17]
[null,"Garages south of Alder Way","SWO15",0.06]
[null,"Garages north of Conifer Way","SWO19",0.1]
[null,"Garage courts to the north of The Plat","ENE14",0.05]
[null,"Garage courts off Ash Road","WCH01",0.1]
[null,"DG Autos off Bradbourne Vale Road","ST02",0.28000000000000003]
[null,"Garages off Hillingdon Avenue","SE03",0.11]
[null,"Garages off Russett Way","SWO03",0.15]
[null,"The Royal Oak car park","NAG09",0.09]
[null,"Land behind the Croft, Bradbourne Vale Road","HO/21/00008",0.13]
[null,"The Cottage and associated land, Holmesdale Road, South Darenth","HO/21/00024",0.95]
[null,"Pitts Car Park, High Street, Westerham","HO/21/00026",0.13]
[null,"Highfield Farm & Knocka Villa, Crow Drive, Halstead, TN14 7BW","HO/21/00073",0.35]
[null,"9 Clare Way, Sevenoaks","HO/21/00076",0.08]
[null,"Baldwin's Yard, Noah's Ark, Kemsing","HO/21/00079",0.38]
[null,"The Stables at Oakview Stud Farm, Lombard Street, Horton Kirby","HO/21/00097",1.1299999999999999]
[null,"The Limes and Jonquils, Bough Beech Road, Four Elms","HO/21/00103",0.35]
[null,"Heaver Trading Estate & Swan Meadows Farm, Ash Road, New Ash Green","HO/21/00107",2.92]
[null,"Land on the south side of West End, Kemsing","HO/21/00120",0.38]
[null,"Land west of College Cottages, Hextable","HO/21/00135",0.65]
[null,"Land rear of College Cottages, Hextable","HO/21/00134",1.9]
[null,"Old Forge Yard, Swanley Village Road, Swanley Village","HO/21/00148",0.31]
[null,"Land east of Gorringe Avenue, Southdowns","HO/21/00170",0.17]
[null,"Land north of Gorringe Avenue, Southdowns","HO/21/00171",0.28000000000000003]
[null,"Land north of Rabbits Road, South Darenth","HO/21/00172",3.08]
[null,"Land south of Prince Charles Avenue, Southdowns, South Darenth","HO/21/00173",1.08]
[null,"Land south of garages, Prince Charles Avenue, Southdowns, South Darenth","HO/21/00175",0.28999999999999998]
[null,"Land south of Victoria Drive, Southdowns, South Darenth","HO/21/00176",0.14000000000000001]
[null,"Land opposite Penshurst Station, to the rear of the Little Brown Jug, Chiddingstone Causeway","HO/21/00188",9.99]
[null,"The Highways Depot, Tonbridge Road, Chiddingstone Causeway","HO/21/00191",0.21]
[null,"Rye Cottage, Rye Lane, Dunton Green, TN14 5HW","HO/21/00204",1.1000000000000001]
[null,"Land adjacent Puddledock Lane, Top Dartford Road, Hextable","HO/21/00217",2.65]
[null,"Land south of Lower Road, Hextable","HO/21/00223",4.99]
[null,"6 Pounsley Road / Darenth Lane and 20 London Road, Dunton Green","HO/21/00262",7.0000000000000007E-2]
[null,"Land south west of Skinners Farm, Edenbridge","HO/21/00232",8.31]
[null,"Land east of London Road, Dunton Green, Sevenoaks","HO/21/00289",9.5299999999999994]
[null,"Ryecroft, Ryecroft Road, Otford","HO/21/00202",0.22]
[null,"Fawkham Business Park, Fawkham Road, Fawkham","HO/21/00086",0.67]
[null,"Land at Lingfield Road, Edenbridge","HO/21/00168",2.12]
[null,"Land west of Ashcombe Drive and Meadow Lane, Edenbridge","HO/21/00226",3.29]
[null,"Land west of New Ash Green","HO/21/00164",15.54]
[null,"42-44 Bullfinch Lane, Riverhead","HO/21/00277",0.26]
[null,"Land at Crouch House Road, Edenbridge","HO/21/00228",18.239999999999998]
[null,"Land East of Fawkham Road West Kingsdown","HO/21/00219",5.1100000000000003]
[null,"Land at Slides Farm, North Ash Road, New Ash Green","HO/21/00280",6.72]
[null,"Orchard Farm, Fawkham Road, Longfield, Kent","HO/21/00058",0.81]
[null,"Richardson's Farm, West Kingsdown","HO/21/00047",0.64]
[null,"Land rear of Bowerwood House, 15 St Botolphs Road","HO/21/00273",0.19]
[null,"The Forge, Ash","HO/21/00238",0.28000000000000003]
[null,"Land west of Hale Lane, Otford","HO/21/00271",13.34]
[null,"Land adjacent to Banckside and Downs Valley, Hartley","HO/21/00062",6.09]
[null,"Grosvenor, Church Road, Hartley","HO/21/00032",0.52]
[null,"Land west of allotments, Bradbourne Vale Road, Sevenoaks, TN13 3QQ","HO/21/00264",2.4900000000000002]
[null,"Land north of Skinners Lane, Edenbridge","HO/21/00233",14.38]
[null,"Land on the east side of London Road, West Kingsdown","HO/21/00186",1.36]
[null,"Land off Morewood Close, Sevenoaks","HO/21/00118",0.46]
[null,"Pinetops, 5 Crownfields","HO/21/00003",0.28999999999999998]
[null,"Land north of railway line and west of Beechenlea Lane, Swanley","HO/21/00165",20.7]
[null,"Garages, Conifer Way","HO/21/00092",0.19]
[null,"Gabriels Farm House, Mill Hill, Edenbridge","HO/21/00005",0.26]
[null,"Land north of Barnett Field, Blackhall Lane, Sevenoaks","HO/24/00001",1.17]
[null,"Land south of Egerton Avenue, Hextable","HO/24/00015",0.19]
[null,"Land West of the Croft, Bradbourne Vale Road","HO/21/00036",0.27]
[null,"Land at Ash Road, Hartley","HO/25/00007",0.5]
[null,"Land north of Sevenoaks, west of Otford Road","HO/25/00012",106.52]
[null,"Land west of Park Lane, Kemsing","HO/25/00013",0.14000000000000001]
[null,"Land adjacent 72 Lower Road, Hextable","HO/25/00016",0.56000000000000005]
[null,"Land at Childsbridge Lane, Kemsing","HO/25/00020",2.4700000000000002]
[null,"Land east of Cedar Drive, Edenbridge","HO/25/00021",0.09]
[null,"Land south of Parkside and Southdene, Halstead","HO/25/00023",0.15]
[null,"Land at 70 Lower Road, Hextable","HO/25/00025",0.41]
[null,"Land at Brambledown and Wellfield, Hartley","HO/25/00028",0.97]
[null,"Land to the west of Childsbridge Lane, Kemsing","HO/25/00033",6.9]
[null,"Media House, Azalea Drive, Swanley","HO/25/00036",0.38]
[null,"Land to the rear of Stanholm, Mill Hill, Edenbridge","HO/25/00038",0.35]
[null,"Land west of Brittains Lane, Sevenoaks","HO/25/00042",7.3]
[null,"Melsetta, Church Road, Hartley","HO/25/00049",0.38]
[null,"Helipad Site, Crow Drive, Fort Halstead","HO/25/00058",0.86]
[null,"Beaumont, Otford Lane, Halstead","HO/25/00060",4.97]
[null,"Land adjacent to Little Mote, High Street, Eynsford","HO/25/00063/B",0.13]
[null,"Land at London Road, West Kingsdown","HO/21/00231/B",10.76]
[null,"Land west of Beaumont Yard, Crow Drive, Halstead","HO/21/00023/B",0.78]
[null,"Former Oasis Academy, 37 Egerton Avenue, Hextable","HO/21/00275/B",3.56]
[null,"Stanhill Farm, north west of Hextable, Puddledock Lane, Hextable","HO/21/00253/B",16.579999999999998]
[null,"Delivery & Post Office / BT Exchange, South Park","H2(a)",0.63]
[null,"Swanley Centre","H2(c)",2.63]
[null,"New Ash Green Village Centre","H2(e)",3.06]
[null,"The White House, Brasted","MX/21/00010",0.16]
[null,"Land at Horton Road, South Darenth","MX/21/00013",8.19]
[null,"Land at West End, Kemsing","MX/21/00046",7.76]
[null,"Land north and south of Maidstone Road, Swanley","MX/21/00027",14.26]
[null,"Bakers Yard, Otford Road, Sevenoaks","MX/21/00023",2.0499999999999998]
[null,"Edenbridge War Memorial Hospital","MX/21/00001",1.06]
[null,"Land at Pedham Place","MX/21/00044",141.22999999999999]
[null,"Land east of High Street, Sevenoaks","MX/21/00049",3.05]
[null,"Land South of Redhill Road, New Ash Green","MX/21/00041",47.1]
[null,"Land east of Mead Road, Edenbridge","MX/21/00051",6.8]
[null,"78-80 and 82-84 High Street, Leathermarket, Edenbridge","MX/21/00014",0.28999999999999998]
[null,"Land at Breezehurst Farm, Crouch House Road","MX/21/00009",17.93]
[null,"Land at Swan Lane, Edenbridge (wider site)","MX/24/00002",41.91]
[null,"Parkwood Hall Co-operative Academy, Beechenlea Lane, Swanley","MX/21/00042",13.82]
[null,"Land north of Moultain Hill, Swanley","MX/25/00011",19.78]
[]
[]
[]
[]
[]
[]
[null,null,null,null,null,0]
[null,null,null,null,null,0]
[null,null,null,null,null,0]
[null,null,null,null,null,0]
[null,null,null,null,null,0]
[null,null,null,null,null,0]
[null,null,null,null,null,0]